Workbook

Sheet 内訳
A1: 第 ６２ 回 全 関 東 社 会 人 卓 球 選 手 権 大 会 申 込 内 訳 表
E3: 団体名 | M3: 選択してください | AP3: 団体長名
E6: 申 込 責任者 | M6: 氏 名
M8: 住 所 | S8: 〒
M10: ☎ | AO10: FAX
K13: 【シングルス】
K14: 種 目 | AG14: 参加料 内訳
K16: [ 1 ] 男子シングルス | AG16: 3000 | AN16: 円 × | AR16: =COUNTIF(シングルス申込書!$B$7:$B$206,1) -> 0 | AV16: 名 ＝ | AZ16: =AG16*AR16 -> 0 | BH16: 円
K18: [ 2 ] 男子サーティ | AG18: 3000 | AN18: 円 × | AR18: =COUNTIF(シングルス申込書!$B$7:$B$206,2) -> 0 | AV18: 名 ＝ | AZ18: =AG18*AR18 -> 0 | BH18: 円
K20: [ 3 ] 男子フォーティ | AG20: 3000 | AN20: 円 × | AR20: =COUNTIF(シングルス申込書!$B$7:$B$206,3) -> 0 | AV20: 名 ＝ | AZ20: =AG20*AR20 -> 0 | BH20: 円
K22: [ 4 ] 男子フィフティ | AG22: 3000 | AN22: 円 × | AR22: =COUNTIF(シングルス申込書!$B$7:$B$206,4) -> 0 | AV22: 名 ＝ | AZ22: =AG22*AR22 -> 0 | BH22: 円
K24: [ 5 ] 男子ローシックスティ | AG24: 3000 | AN24: 円 × | AR24: =COUNTIF(シングルス申込書!$B$7:$B$206,5) -> 0 | AV24: 名 ＝ | AZ24: =AG24*AR24 -> 0 | BH24: 円
K26: [ 6 ] 男子ハイシックスティ | AG26: 3000 | AN26: 円 × | AR26: =COUNTIF(シングルス申込書!$B$7:$B$206,6) -> 0 | AV26: 名 ＝ | AZ26: =AG26*AR26 -> 0 | BH26: 円
K28: [ 7 ] 男子ローセブンティ | AG28: 3000 | AN28: 円 × | AR28: =COUNTIF(シングルス申込書!$B$7:$B$206,7) -> 0 | AV28: 名 ＝ | AZ28: =AG28*AR28 -> 0 | BH28: 円
K30: [ 8 ] 男子ハイセブンティ | AG30: 3000 | AN30: 円 × | AR30: =COUNTIF(シングルス申込書!$B$7:$B$206,8) -> 0 | AV30: 名 ＝ | AZ30: =AG30*AR30 -> 0 | BH30: 円
K32: [ 9 ] 男子エイティ | AG32: 3000 | AN32: 円 × | AR32: =COUNTIF(シングルス申込書!$B$7:$B$206,9) -> 0 | AV32: 名 ＝ | AZ32: =AG32*AR32 -> 0 | BH32: 円
K34: [11] 女子シングルス | AG34: 3000 | AN34: 円 × | AR34: =COUNTIF(シングルス申込書!$B$7:$B$206,11) -> 0 | AV34: 名 ＝ | AZ34: =AG34*AR34 -> 0 | BH34: 円
K36: [12] 女子サーティ | AG36: 3000 | AN36: 円 × | AR36: =COUNTIF(シングルス申込書!$B$7:$B$206,12) -> 0 | AV36: 名 ＝ | AZ36: =AG36*AR36 -> 0 | BH36: 円
K38: [13] 女子フォーティ | AG38: 3000 | AN38: 円 × | AR38: =COUNTIF(シングルス申込書!$B$7:$B$206,13) -> 0 | AV38: 名 ＝ | AZ38: =AG38*AR38 -> 0 | BH38: 円
K40: [14] 女子フィフティ | AG40: 3000 | AN40: 円 × | AR40: =COUNTIF(シングルス申込書!$B$7:$B$206,14) -> 0 | AV40: 名 ＝ | AZ40: =AG40*AR40 -> 0 | BH40: 円
K42: [15] 女子ローシックスティ | AG42: 3000 | AN42: 円 × | AR42: =COUNTIF(シングルス申込書!$B$7:$B$206,15) -> 0 | AV42: 名 ＝ | AZ42: =AG42*AR42 -> 0 | BH42: 円
K44: [16] 女子ハイシックスティ | AG44: 3000 | AN44: 円 × | AR44: =COUNTIF(シングルス申込書!$B$7:$B$206,16) -> 0 | AV44: 名 ＝ | AZ44: =AG44*AR44 -> 0 | BH44: 円
K46: [17] 女子ローセブンティ | AG46: 3000 | AN46: 円 × | AR46: =COUNTIF(シングルス申込書!$B$7:$B$206,17) -> 0 | AV46: 名 ＝ | AZ46: =AG46*AR46 -> 0 | BH46: 円
K48: [18] 女子ハイセブンティ | AG48: 3000 | AN48: 円 × | AR48: =COUNTIF(シングルス申込書!$B$7:$B$206,18) -> 0 | AV48: 名 ＝ | AZ48: =AG48*AR48 -> 0 | BH48: 円
K50: [19] 女子エイティ | AG50: 3000 | AN50: 円 × | AR50: =COUNTIF(シングルス申込書!$B$7:$B$206,19) -> 0 | AV50: 名 ＝ | AZ50: =AG50*AR50 -> 0 | BH50: 円
K53: 合 計 | AR53: =SUM(AZ16:BG51) -> 0 | BH53: 円
B56: ※大会が中止になった場合の参加料返金先口座をご記入ください。
C57: 金融機関名 | AB57: 口座種別 | AJ57: 普通・当座 | AV57: フリガナ | BD57: =PHONETIC(BD58)
C58: 支店名 | AB58: 口座番号 | AV58: 口座名義

Sheet シングルス申込書
I1: 【 シングルス申込書 】
B2: 第 6２ 回 全 関 東 社 会 人 卓 球 選 手 権 大 会
B3: ="【参加数】"&COUNT(B7:B356)&"名" -> 【参加数】0名 | E3: 団体名 | G3: 選択してください
B4: 必須 | C4: 必須 | D4: 必須 | E4: 必須 | F4: 必須 | G4: 必須 | H4: 自動 | I4: 任意
B5: 種目 番号 | C5: チーム名 | D5: チーム名(カナ) | E5: 氏 名 | F5: 氏名(カナ) | G5: 生年月日 | H5: 大会 年齢 | I5: 備考(昨年及び全国大会の結果等) | J5: 46478
A6: 入力 見本 | B6: 1 | C6: 山梨クラブ | D6: ヤマナシクラブ | E6: 山梨 太郎 | F6: ヤマナシ タロウ | G6: 36892 | H6: =IF(G6="","",DATEDIF(G6,$J$5,"Y")) -> 26 | I6: 前年度ベスト4
A7: 1 | H7: =IF(G7="","",DATEDIF(G7,$J$5,"Y"))
A8: 2 | H8: =IF(G8="","",DATEDIF(G8,$J$5,"Y"))
A9: 3 | H9: =IF(G9="","",DATEDIF(G9,$J$5,"Y"))
A10: 4 | H10: =IF(G10="","",DATEDIF(G10,$J$5,"Y"))
A11: 5 | H11: =IF(G11="","",DATEDIF(G11,$J$5,"Y"))
A12: 6 | H12: =IF(G12="","",DATEDIF(G12,$J$5,"Y"))
A13: 7 | H13: =IF(G13="","",DATEDIF(G13,$J$5,"Y"))
A14: 8 | H14: =IF(G14="","",DATEDIF(G14,$J$5,"Y"))
A15: 9 | H15: =IF(G15="","",DATEDIF(G15,$J$5,"Y"))
A16: 10 | H16: =IF(G16="","",DATEDIF(G16,$J$5,"Y"))
A17: 11 | H17: =IF(G17="","",DATEDIF(G17,$J$5,"Y"))
A18: 12 | H18: =IF(G18="","",DATEDIF(G18,$J$5,"Y"))
... A356: 350 | H356: =IF(G356="","",DATEDIF(G356,$J$5,"Y"))

Sheet 団体名
B1: 選択してください
B2: 茨城県卓球連盟 | C2: 茨城
B3: 栃木県卓球連盟 | C3: 栃木
B4: 群馬県卓球協会 | C4: 群馬
B5: 埼玉県卓球協会 | C5: 埼玉
B6: 千葉県卓球連盟 | C6: 千葉
B7: 東京都卓球連盟 | C7: 東京
B8: 神奈川県卓球協会 | C8: 神奈川
B9: 山梨県卓球協会 | C9: 山梨
