Workbook

Sheet 種目別参加人数一覧
B2: 令和8年度 東アジアホープス選考会兼ホープス以下新人戦 参加申込書
B3: 日程：2026年12月27日（日） 会場：池の川さくらアリーナ
B4: 申込期間を厳守し、早めに参加申込をお願いします
B5: 申込期間：2026年11月16日～2026年11月23日（期日厳守）
B7: 黄色：入力・選択する欄 | C7: 青色：自動入力される欄（変更不要）
B9: チーム正式名称 | G9: 協会登録名称を入力 | H9: 協会登録名称を入力 | I9: 協会登録名称を入力
B10: 表示用チーム名（8文字以内） | G10: 略称が不要な場合も入力 | H10: 略称が不要な場合も入力 | I10: 略称が不要な場合も入力
B11: 申込責任者
B12: 連絡先電話番号
B13: 連絡先メールアドレス
B14: 登録済み役職者 ① | G14: 登録済みの指導者・役職者を入力 | H14: 登録済みの指導者・役職者を入力 | I14: 登録済みの指導者・役職者を入力
B15: 登録済み役職者 ②
B16: 登録済み役職者 ③
B18: 保存するファイル名
B19: =IF(C9="","チーム名",C9)&"_東アジアホープス兼新人戦_参加申込書.xlsx" -> チーム名_東アジアホープス兼新人戦_参加申込書.xlsx
B21: 上記のファイル名で保存し送付して下さい。 | C21: 保存時に、ファイル名の「チーム名」を所属チーム名に変更してください。 | D21: 保存時に、ファイル名の「チーム名」を所属チーム名に変更してください。 | E21: 保存時に、ファイル名の「チーム名」を所属チーム名に変更してください。 | F21: 保存時に、ファイル名の「チーム名」を所属チーム名に変更してください。 | G21: 保存時に、ファイル名の「チーム名」を所属チーム名に変更してください。 | H21: 保存時に、ファイル名の「チーム名」を所属チーム名に変更してください。 | I21: 保存時に、ファイル名の「チーム名」を所属チーム名に変更してください。
B23: 種目 | C23: ① ホープス男子 | D23: ③ カブ男子 | E23: ⑤ バンビ男子 | F23: ② ホープス女子 | G23: ④ カブ女子 | H23: ⑥ バンビ女子 | I23: 合計
B24: 人数（自動） | C24: =COUNTA(ホープス男!D16:D35) -> 0 | D24: =COUNTA(カブ男!D16:D35) -> 0 | E24: =COUNTA(バンビ男!D16:D35) -> 0 | F24: =COUNTA(ホープス女!D16:D35) -> 0 | G24: =COUNTA(カブ女!D16:D35) -> 0 | H24: =COUNTA(バンビ女!D16:D35) -> 0 | I24: =SUM(C24:H24) -> 0
B25: 参加費（自動） | C25: =C24*1000 -> 0 | D25: =D24*1000 -> 0 | E25: =E24*1000 -> 0 | F25: =F24*1000 -> 0 | G25: =G24*1000 -> 0 | H25: =H24*1000 -> 0 | I25: =SUM(C25:H25) -> 0
B27: 入力・提出の案内
B28: ・チーム情報を入力後、種目別シートに選手を入力してください。
B29: ・人数・参加費（1人1,000円）は選手名から自動集計します。空き行の選手名は空欄にしてください。
B30: ・申込先：ホープス部 仁平 雅巳
B31: ・メール：mnihei@top-pingpong.com
B32: ・申込方法：Excelファイルをメールに添付して提出してください。

Sheet ホープス男
B2: 令和8年度 東アジアホープス選考会兼ホープス以下新人戦 参加申込書 | C2: 令和8年度 東アジアホープス選考会兼ホープス以下新人戦 | D2: 令和8年度 東アジアホープス選考会兼ホープス以下新人戦 | E2: 令和8年度 東アジアホープス選考会兼ホープス以下新人戦 | F2: 令和8年度 東アジアホープス選考会兼ホープス以下新人戦 | G2: 令和8年度 東アジアホープス選考会兼ホープス以下新人戦 | H2: 令和8年度 東アジアホープス選考会兼ホープス以下新人戦 | I2: 令和8年度 東アジアホープス選考会兼ホープス以下新人戦 | J2: 令和8年度 東アジアホープス選考会兼ホープス以下新人戦 | K2: 令和8年度 東アジアホープス選考会兼ホープス以下新人戦 | L2: 令和8年度 東アジアホープス選考会兼ホープス以下新人戦
B3: ① ホープス男子 小学５年生以下 | C3: ① ホープス男子 小学5年生以下 開催日：2026年12月27日（日） | D3: ① ホープス男子 小学5年生以下 開催日：2026年12月27日（日） | E3: ① ホープス男子 小学5年生以下 開催日：2026年12月27日（日） | F3: ① ホープス男子 小学5年生以下 開催日：2026年12月27日（日） | G3: ① ホープス男子 小学5年生以下 開催日：2026年12月27日（日） | H3: ① ホープス男子 小学5年生以下 開催日：2026年12月27日（日） | I3: ① ホープス男子 小学5年生以下 開催日：2026年12月27日（日） | J3: ① ホープス男子 小学5年生以下 開催日：2026年12月27日（日） | K3: ① ホープス男子 小学5年生以下 開催日：2026年12月27日（日） | L3: ① ホープス男子 小学5年生以下 開催日：2026年12月27日（日）
B5: 黄色：入力・選択する欄 | D5: 青色：自動入力される欄（変更不要）
B7: 姓と名の間には、必ず全角スペースを1つ入れてください。 | C7: 黄色の欄を入力。種目・チーム名は自動表示です。1人1種目でお申し込みください。 | D7: 黄色の欄を入力。種目・チーム名は自動表示です。1人1種目でお申し込みください。 | E7: 黄色の欄を入力。種目・チーム名は自動表示です。1人1種目でお申し込みください。 | F7: 黄色の欄を入力。種目・チーム名は自動表示です。1人1種目でお申し込みください。 | G7: 黄色の欄を入力。種目・チーム名は自動表示です。1人1種目でお申し込みください。 | H7: 黄色の欄を入力。種目・チーム名は自動表示です。1人1種目でお申し込みください。 | I7: 黄色の欄を入力。種目・チーム名は自動表示です。1人1種目でお申し込みください。 | J7: 黄色の欄を入力。種目・チーム名は自動表示です。1人1種目でお申し込みください。 | K7: 黄色の欄を入力。種目・チーム名は自動表示です。1人1種目でお申し込みください。 | L7: 黄色の欄を入力。種目・チーム名は自動表示です。1人1種目でお申し込みください。
B8: 学年・成績はプルダウンで選択。「公式戦への初参加」は公式戦に初めて出場する場合に「はい」を選択。 | C8: 学年は大会開催時点の学年を選択。選手名は姓と名の間を全角スペースで入力してください。 | D8: 学年は大会開催時点の学年を選択。選手名は姓と名の間を全角スペースで入力してください。 | E8: 学年は大会開催時点の学年を選択。選手名は姓と名の間を全角スペースで入力してください。 | F8: 学年は大会開催時点の学年を選択。選手名は姓と名の間を全角スペースで入力してください。 | G8: 学年は大会開催時点の学年を選択。選手名は姓と名の間を全角スペースで入力してください。 | H8: 学年は大会開催時点の学年を選択。選手名は姓と名の間を全角スペースで入力してください。 | I8: 学年は大会開催時点の学年を選択。選手名は姓と名の間を全角スペースで入力してください。 | J8: 学年は大会開催時点の学年を選択。選手名は姓と名の間を全角スペースで入力してください。 | K8: 学年は大会開催時点の学年を選択。選手名は姓と名の間を全角スペースで入力してください。 | L8: 学年は大会開催時点の学年を選択。選手名は姓と名の間を全角スペースで入力してください。
B9: 成績は全国ホープス選抜選考会の結果を入力。不出場の場合は「不参加」を選択してください。 | C9: 「公式戦への初参加」は、この大会に限らず公式戦に初めて出場する場合に「はい」を選択。 | D9: 「公式戦への初参加」は、この大会に限らず公式戦に初めて出場する場合に「はい」を選択。 | E9: 「公式戦への初参加」は、この大会に限らず公式戦に初めて出場する場合に「はい」を選択。 | F9: 「公式戦への初参加」は、この大会に限らず公式戦に初めて出場する場合に「はい」を選択。 | G9: 「公式戦への初参加」は、この大会に限らず公式戦に初めて出場する場合に「はい」を選択。 | H9: 「公式戦への初参加」は、この大会に限らず公式戦に初めて出場する場合に「はい」を選択。 | I9: 「公式戦への初参加」は、この大会に限らず公式戦に初めて出場する場合に「はい」を選択。 | J9: 「公式戦への初参加」は、この大会に限らず公式戦に初めて出場する場合に「はい」を選択。 | K9: 「公式戦への初参加」は、この大会に限らず公式戦に初めて出場する場合に「はい」を選択。 | L9: 「公式戦への初参加」は、この大会に限らず公式戦に初めて出場する場合に「はい」を選択。
B10: 上記大会に不参加で、前々回大会にベスト8入賞した選手のみ、大会名と結果を「特記事項」へ記入してください。 | C10: 実績は直近の各県予選会の結果を入力。順位が確定している場合は「○位」、未確定の範囲は「ベスト○」。 | D10: 実績は直近の各県予選会の結果を入力。順位が確定している場合は「○位」、未確定の範囲は「ベスト○」。 | E10: 実績は直近の各県予選会の結果を入力。順位が確定している場合は「○位」、未確定の範囲は「ベスト○」。 | F10: 実績は直近の各県予選会の結果を入力。順位が確定している場合は「○位」、未確定の範囲は「ベスト○」。 | G10: 実績は直近の各県予選会の結果を入力。順位が確定している場合は「○位」、未確定の範囲は「ベスト○」。 | H10: 実績は直近の各県予選会の結果を入力。順位が確定している場合は「○位」、未確定の範囲は「ベスト○」。 | I10: 実績は直近の各県予選会の結果を入力。順位が確定している場合は「○位」、未確定の範囲は「ベスト○」。 | J10: 実績は直近の各県予選会の結果を入力。順位が確定している場合は「○位」、未確定の範囲は「ベスト○」。 | K10: 実績は直近の各県予選会の結果を入力。順位が確定している場合は「○位」、未確定の範囲は「ベスト○」。 | L10: 実績は直近の各県予選会の結果を入力。順位が確定している場合は「○位」、未確定の範囲は「ベスト○」。
B11: 転入やその他の補足事項も「特記事項」へ記入してください。 | C11: ホープス選抜は最終結果と予選リーグ順位を入力。リーグ順位は県予選会の結果です。 | D11: ホープス選抜は最終結果と予選リーグ順位を入力。リーグ順位は県予選会の結果です。 | E11: ホープス選抜は最終結果と予選リーグ順位を入力。リーグ順位は県予選会の結果です。 | F11: ホープス選抜は最終結果と予選リーグ順位を入力。リーグ順位は県予選会の結果です。 | G11: ホープス選抜は最終結果と予選リーグ順位を入力。リーグ順位は県予選会の結果です。 | H11: ホープス選抜は最終結果と予選リーグ順位を入力。リーグ順位は県予選会の結果です。 | I11: ホープス選抜は最終結果と予選リーグ順位を入力。リーグ順位は県予選会の結果です。 | J11: ホープス選抜は最終結果と予選リーグ順位を入力。リーグ順位は県予選会の結果です。 | K11: ホープス選抜は最終結果と予選リーグ順位を入力。リーグ順位は県予選会の結果です。 | L11: ホープス選抜は最終結果と予選リーグ順位を入力。リーグ順位は県予選会の結果です。
C12: 出場していない大会は「不参加」。該当なしは「該当なし」を選択。未入力のまま提出しないでください。 | D12: 出場していない大会は「不参加」。該当なしは「該当なし」を選択。未入力のまま提出しないでください。 | E12: 出場していない大会は「不参加」。該当なしは「該当なし」を選択。未入力のまま提出しないでください。 | F12: 出場していない大会は「不参加」。該当なしは「該当なし」を選択。未入力のまま提出しないでください。 | G12: 出場していない大会は「不参加」。該当なしは「該当なし」を選択。未入力のまま提出しないでください。 | H12: 出場していない大会は「不参加」。該当なしは「該当なし」を選択。未入力のまま提出しないでください。 | I12: 出場していない大会は「不参加」。該当なしは「該当なし」を選択。未入力のまま提出しないでください。 | J12: 出場していない大会は「不参加」。該当なしは「該当なし」を選択。未入力のまま提出しないでください。 | K12: 出場していない大会は「不参加」。該当なしは「該当なし」を選択。未入力のまま提出しないでください。 | L12: 出場していない大会は「不参加」。該当なしは「該当なし」を選択。未入力のまま提出しないでください。
C13: 特記事項：転入元・大会名・県代表歴・全国大会実績、選択肢にない結果などを記入。 | D13: 特記事項：転入元・大会名・県代表歴・全国大会実績、選択肢にない結果などを記入。 | E13: 特記事項：転入元・大会名・県代表歴・全国大会実績、選択肢にない結果などを記入。 | F13: 特記事項：転入元・大会名・県代表歴・全国大会実績、選択肢にない結果などを記入。 | G13: 特記事項：転入元・大会名・県代表歴・全国大会実績、選択肢にない結果などを記入。 | H13: 特記事項：転入元・大会名・県代表歴・全国大会実績、選択肢にない結果などを記入。 | I13: 特記事項：転入元・大会名・県代表歴・全国大会実績、選択肢にない結果などを記入。 | J13: 特記事項：転入元・大会名・県代表歴・全国大会実績、選択肢にない結果などを記入。 | K13: 特記事項：転入元・大会名・県代表歴・全国大会実績、選択肢にない結果などを記入。 | L13: 特記事項：転入元・大会名・県代表歴・全国大会実績、選択肢にない結果などを記入。
C14: 記入例：最終結果「ベスト8」／予選リーグ「1位」。順位が決まっている場合は最終結果「5位」など。 | D14: 記入例：最終結果「ベスト8」／予選リーグ「1位」。順位が決まっている場合は最終結果「5位」など。 | E14: 記入例：最終結果「ベスト8」／予選リーグ「1位」。順位が決まっている場合は最終結果「5位」など。 | F14: 記入例：最終結果「ベスト8」／予選リーグ「1位」。順位が決まっている場合は最終結果「5位」など。 | G14: 記入例：最終結果「ベスト8」／予選リーグ「1位」。順位が決まっている場合は最終結果「5位」など。 | H14: 記入例：最終結果「ベスト8」／予選リーグ「1位」。順位が決まっている場合は最終結果「5位」など。 | I14: 記入例：最終結果「ベスト8」／予選リーグ「1位」。順位が決まっている場合は最終結果「5位」など。 | J14: 記入例：最終結果「ベスト8」／予選リーグ「1位」。順位が決まっている場合は最終結果「5位」など。 | K14: 記入例：最終結果「ベスト8」／予選リーグ「1位」。順位が決まっている場合は最終結果「5位」など。 | L14: 記入例：最終結果「ベスト8」／予選リーグ「1位」。順位が決まっている場合は最終結果「5位」など。
B15: No. | C15: 出場種目 | D15: 選手名 | E15: 学年 | F15: チーム名 | G15: 公式戦への 初参加 | H15: 全国ホープス選抜選考会の成績 | J15: 特記事項
B16: 1 | C16: ① ホープス男子 | F16: =IF(D16="","",IF(種目別参加人数一覧!$C$10="","",種目別参加人数一覧!$C$10))
B17: 2 | C17: ① ホープス男子 | F17: =IF(D17="","",IF(種目別参加人数一覧!$C$10="","",種目別参加人数一覧!$C$10))
B18: 3 | C18: ① ホープス男子 | F18: =IF(D18="","",IF(種目別参加人数一覧!$C$10="","",種目別参加人数一覧!$C$10))
B19: 4 | C19: ① ホープス男子 | F19: =IF(D19="","",IF(種目別参加人数一覧!$C$10="","",種目別参加人数一覧!$C$10))
B20: 5 | C20: ① ホープス男子 | F20: =IF(D20="","",IF(種目別参加人数一覧!$C$10="","",種目別参加人数一覧!$C$10))
B21: 6 | C21: ① ホープス男子 | F21: =IF(D21="","",IF(種目別参加人数一覧!$C$10="","",種目別参加人数一覧!$C$10))
B22: 7 | C22: ① ホープス男子 | F22: =IF(D22="","",IF(種目別参加人数一覧!$C$10="","",種目別参加人数一覧!$C$10))
B23: 8 | C23: ① ホープス男子 | F23: =IF(D23="","",IF(種目別参加人数一覧!$C$10="","",種目別参加人数一覧!$C$10))
B24: 9 | C24: ① ホープス男子 | F24: =IF(D24="","",IF(種目別参加人数一覧!$C$10="","",種目別参加人数一覧!$C$10))
B25: 10 | C25: ① ホープス男子 | F25: =IF(D25="","",IF(種目別参加人数一覧!$C$10="","",種目別参加人数一覧!$C$10))
B26: 11 | C26: ① ホープス男子 | F26: =IF(D26="","",IF(種目別参加人数一覧!$C$10="","",種目別参加人数一覧!$C$10))
B27: 12 | C27: ① ホープス男子 | F27: =IF(D27="","",IF(種目別参加人数一覧!$C$10="","",種目別参加人数一覧!$C$10))
... B35: 20 | C35: ① ホープス男子 | F35: =IF(D35="","",IF(種目別参加人数一覧!$C$10="","",種目別参加人数一覧!$C$10))
C37: 実績の優先順位：ホープス選抜県予選 → 東京選手権県予選 → 全日本ホカバ県予選。バンビのシードは東京選手権県予選を基準とします。 | D37: 実績の優先順位：ホープス選抜県予選 → 東京選手権県予選 → 全日本ホカバ県予選。バンビのシードは東京選手権県予選を基準とします。 | E37: 実績の優先順位：ホープス選抜県予選 → 東京選手権県予選 → 全日本ホカバ県予選。バンビのシードは東京選手権県予選を基準とします。 | F37: 実績の優先順位：ホープス選抜県予選 → 東京選手権県予選 → 全日本ホカバ県予選。バンビのシードは東京選手権県予選を基準とします。 | G37: 実績の優先順位：ホープス選抜県予選 → 東京選手権県予選 → 全日本ホカバ県予選。バンビのシードは東京選手権県予選を基準とします。 | H37: 実績の優先順位：ホープス選抜県予選 → 東京選手権県予選 → 全日本ホカバ県予選。バンビのシードは東京選手権県予選を基準とします。 | I37: 実績の優先順位：ホープス選抜県予選 → 東京選手権県予選 → 全日本ホカバ県予選。バンビのシードは東京選手権県予選を基準とします。 | J37: 実績の優先順位：ホープス選抜県予選 → 東京選手権県予選 → 全日本ホカバ県予選。バンビのシードは東京選手権県予選を基準とします。 | K37: 実績の優先順位：ホープス選抜県予選 → 東京選手権県予選 → 全日本ホカバ県予選。バンビのシードは東京選手権県予選を基準とします。 | L37: 実績の優先順位：ホープス選抜県予選 → 東京選手権県予選 → 全日本ホカバ県予選。バンビのシードは東京選手権県予選を基準とします。

Sheet カブ男
B2: 令和8年度 東アジアホープス選考会兼ホープス以下新人戦 参加申込書 | C2: 令和8年度 東アジアホープス選考会兼ホープス以下新人戦 | D2: 令和8年度 東アジアホープス選考会兼ホープス以下新人戦 | E2: 令和8年度 東アジアホープス選考会兼ホープス以下新人戦 | F2: 令和8年度 東アジアホープス選考会兼ホープス以下新人戦 | G2: 令和8年度 東アジアホープス選考会兼ホープス以下新人戦 | H2: 令和8年度 東アジアホープス選考会兼ホープス以下新人戦 | I2: 令和8年度 東アジアホープス選考会兼ホープス以下新人戦 | J2: 令和8年度 東アジアホープス選考会兼ホープス以下新人戦 | K2: 令和8年度 東アジアホープス選考会兼ホープス以下新人戦 | L2: 令和8年度 東アジアホープス選考会兼ホープス以下新人戦
B3: ③ カブ男子 小学３年生以下 | C3: ③ カブ男子 小学3年生以下 開催日：2026年12月27日（日） | D3: ③ カブ男子 小学3年生以下 開催日：2026年12月27日（日） | E3: ③ カブ男子 小学3年生以下 開催日：2026年12月27日（日） | F3: ③ カブ男子 小学3年生以下 開催日：2026年12月27日（日） | G3: ③ カブ男子 小学3年生以下 開催日：2026年12月27日（日） | H3: ③ カブ男子 小学3年生以下 開催日：2026年12月27日（日） | I3: ③ カブ男子 小学3年生以下 開催日：2026年12月27日（日） | J3: ③ カブ男子 小学3年生以下 開催日：2026年12月27日（日） | K3: ③ カブ男子 小学3年生以下 開催日：2026年12月27日（日） | L3: ③ カブ男子 小学3年生以下 開催日：2026年12月27日（日）
B5: 黄色：入力・選択する欄 | D5: 青色：自動入力される欄（変更不要）
B7: 姓と名の間には、必ず全角スペースを1つ入れてください。 | C7: 黄色の欄を入力。種目・チーム名は自動表示です。1人1種目でお申し込みください。 | D7: 黄色の欄を入力。種目・チーム名は自動表示です。1人1種目でお申し込みください。 | E7: 黄色の欄を入力。種目・チーム名は自動表示です。1人1種目でお申し込みください。 | F7: 黄色の欄を入力。種目・チーム名は自動表示です。1人1種目でお申し込みください。 | G7: 黄色の欄を入力。種目・チーム名は自動表示です。1人1種目でお申し込みください。 | H7: 黄色の欄を入力。種目・チーム名は自動表示です。1人1種目でお申し込みください。 | I7: 黄色の欄を入力。種目・チーム名は自動表示です。1人1種目でお申し込みください。 | J7: 黄色の欄を入力。種目・チーム名は自動表示です。1人1種目でお申し込みください。 | K7: 黄色の欄を入力。種目・チーム名は自動表示です。1人1種目でお申し込みください。 | L7: 黄色の欄を入力。種目・チーム名は自動表示です。1人1種目でお申し込みください。
B8: 学年・成績はプルダウンで選択。「公式戦への初参加」は公式戦に初めて出場する場合に「はい」を選択。 | C8: 学年は大会開催時点の学年を選択。選手名は姓と名の間を全角スペースで入力してください。 | D8: 学年は大会開催時点の学年を選択。選手名は姓と名の間を全角スペースで入力してください。 | E8: 学年は大会開催時点の学年を選択。選手名は姓と名の間を全角スペースで入力してください。 | F8: 学年は大会開催時点の学年を選択。選手名は姓と名の間を全角スペースで入力してください。 | G8: 学年は大会開催時点の学年を選択。選手名は姓と名の間を全角スペースで入力してください。 | H8: 学年は大会開催時点の学年を選択。選手名は姓と名の間を全角スペースで入力してください。 | I8: 学年は大会開催時点の学年を選択。選手名は姓と名の間を全角スペースで入力してください。 | J8: 学年は大会開催時点の学年を選択。選手名は姓と名の間を全角スペースで入力してください。 | K8: 学年は大会開催時点の学年を選択。選手名は姓と名の間を全角スペースで入力してください。 | L8: 学年は大会開催時点の学年を選択。選手名は姓と名の間を全角スペースで入力してください。
B9: 成績は全国ホープス選抜選考会の結果を入力。不出場の場合は「不参加」を選択してください。 | C9: 「公式戦への初参加」は、この大会に限らず公式戦に初めて出場する場合に「はい」を選択。 | D9: 「公式戦への初参加」は、この大会に限らず公式戦に初めて出場する場合に「はい」を選択。 | E9: 「公式戦への初参加」は、この大会に限らず公式戦に初めて出場する場合に「はい」を選択。 | F9: 「公式戦への初参加」は、この大会に限らず公式戦に初めて出場する場合に「はい」を選択。 | G9: 「公式戦への初参加」は、この大会に限らず公式戦に初めて出場する場合に「はい」を選択。 | H9: 「公式戦への初参加」は、この大会に限らず公式戦に初めて出場する場合に「はい」を選択。 | I9: 「公式戦への初参加」は、この大会に限らず公式戦に初めて出場する場合に「はい」を選択。 | J9: 「公式戦への初参加」は、この大会に限らず公式戦に初めて出場する場合に「はい」を選択。 | K9: 「公式戦への初参加」は、この大会に限らず公式戦に初めて出場する場合に「はい」を選択。 | L9: 「公式戦への初参加」は、この大会に限らず公式戦に初めて出場する場合に「はい」を選択。
B10: 上記大会に不参加で、前々回大会にベスト8入賞した選手のみ、大会名と結果を「特記事項」へ記入してください。 | C10: 実績は直近の各県予選会の結果を入力。順位が確定している場合は「○位」、未確定の範囲は「ベスト○」。 | D10: 実績は直近の各県予選会の結果を入力。順位が確定している場合は「○位」、未確定の範囲は「ベスト○」。 | E10: 実績は直近の各県予選会の結果を入力。順位が確定している場合は「○位」、未確定の範囲は「ベスト○」。 | F10: 実績は直近の各県予選会の結果を入力。順位が確定している場合は「○位」、未確定の範囲は「ベスト○」。 | G10: 実績は直近の各県予選会の結果を入力。順位が確定している場合は「○位」、未確定の範囲は「ベスト○」。 | H10: 実績は直近の各県予選会の結果を入力。順位が確定している場合は「○位」、未確定の範囲は「ベスト○」。 | I10: 実績は直近の各県予選会の結果を入力。順位が確定している場合は「○位」、未確定の範囲は「ベスト○」。 | J10: 実績は直近の各県予選会の結果を入力。順位が確定している場合は「○位」、未確定の範囲は「ベスト○」。 | K10: 実績は直近の各県予選会の結果を入力。順位が確定している場合は「○位」、未確定の範囲は「ベスト○」。 | L10: 実績は直近の各県予選会の結果を入力。順位が確定している場合は「○位」、未確定の範囲は「ベスト○」。
B11: 転入やその他の補足事項も「特記事項」へ記入してください。 | C11: ホープス選抜は最終結果と予選リーグ順位を入力。リーグ順位は県予選会の結果です。 | D11: ホープス選抜は最終結果と予選リーグ順位を入力。リーグ順位は県予選会の結果です。 | E11: ホープス選抜は最終結果と予選リーグ順位を入力。リーグ順位は県予選会の結果です。 | F11: ホープス選抜は最終結果と予選リーグ順位を入力。リーグ順位は県予選会の結果です。 | G11: ホープス選抜は最終結果と予選リーグ順位を入力。リーグ順位は県予選会の結果です。 | H11: ホープス選抜は最終結果と予選リーグ順位を入力。リーグ順位は県予選会の結果です。 | I11: ホープス選抜は最終結果と予選リーグ順位を入力。リーグ順位は県予選会の結果です。 | J11: ホープス選抜は最終結果と予選リーグ順位を入力。リーグ順位は県予選会の結果です。 | K11: ホープス選抜は最終結果と予選リーグ順位を入力。リーグ順位は県予選会の結果です。 | L11: ホープス選抜は最終結果と予選リーグ順位を入力。リーグ順位は県予選会の結果です。
C12: 出場していない大会は「不参加」。該当なしは「該当なし」を選択。未入力のまま提出しないでください。 | D12: 出場していない大会は「不参加」。該当なしは「該当なし」を選択。未入力のまま提出しないでください。 | E12: 出場していない大会は「不参加」。該当なしは「該当なし」を選択。未入力のまま提出しないでください。 | F12: 出場していない大会は「不参加」。該当なしは「該当なし」を選択。未入力のまま提出しないでください。 | G12: 出場していない大会は「不参加」。該当なしは「該当なし」を選択。未入力のまま提出しないでください。 | H12: 出場していない大会は「不参加」。該当なしは「該当なし」を選択。未入力のまま提出しないでください。 | I12: 出場していない大会は「不参加」。該当なしは「該当なし」を選択。未入力のまま提出しないでください。 | J12: 出場していない大会は「不参加」。該当なしは「該当なし」を選択。未入力のまま提出しないでください。 | K12: 出場していない大会は「不参加」。該当なしは「該当なし」を選択。未入力のまま提出しないでください。 | L12: 出場していない大会は「不参加」。該当なしは「該当なし」を選択。未入力のまま提出しないでください。
C13: 特記事項：転入元・大会名・県代表歴・全国大会実績、選択肢にない結果などを記入。 | D13: 特記事項：転入元・大会名・県代表歴・全国大会実績、選択肢にない結果などを記入。 | E13: 特記事項：転入元・大会名・県代表歴・全国大会実績、選択肢にない結果などを記入。 | F13: 特記事項：転入元・大会名・県代表歴・全国大会実績、選択肢にない結果などを記入。 | G13: 特記事項：転入元・大会名・県代表歴・全国大会実績、選択肢にない結果などを記入。 | H13: 特記事項：転入元・大会名・県代表歴・全国大会実績、選択肢にない結果などを記入。 | I13: 特記事項：転入元・大会名・県代表歴・全国大会実績、選択肢にない結果などを記入。 | J13: 特記事項：転入元・大会名・県代表歴・全国大会実績、選択肢にない結果などを記入。 | K13: 特記事項：転入元・大会名・県代表歴・全国大会実績、選択肢にない結果などを記入。 | L13: 特記事項：転入元・大会名・県代表歴・全国大会実績、選択肢にない結果などを記入。
C14: 記入例：最終結果「ベスト8」／予選リーグ「1位」。順位が決まっている場合は最終結果「5位」など。 | D14: 記入例：最終結果「ベスト8」／予選リーグ「1位」。順位が決まっている場合は最終結果「5位」など。 | E14: 記入例：最終結果「ベスト8」／予選リーグ「1位」。順位が決まっている場合は最終結果「5位」など。 | F14: 記入例：最終結果「ベスト8」／予選リーグ「1位」。順位が決まっている場合は最終結果「5位」など。 | G14: 記入例：最終結果「ベスト8」／予選リーグ「1位」。順位が決まっている場合は最終結果「5位」など。 | H14: 記入例：最終結果「ベスト8」／予選リーグ「1位」。順位が決まっている場合は最終結果「5位」など。 | I14: 記入例：最終結果「ベスト8」／予選リーグ「1位」。順位が決まっている場合は最終結果「5位」など。 | J14: 記入例：最終結果「ベスト8」／予選リーグ「1位」。順位が決まっている場合は最終結果「5位」など。 | K14: 記入例：最終結果「ベスト8」／予選リーグ「1位」。順位が決まっている場合は最終結果「5位」など。 | L14: 記入例：最終結果「ベスト8」／予選リーグ「1位」。順位が決まっている場合は最終結果「5位」など。
B15: No. | C15: 出場種目 | D15: 選手名 | E15: 学年 | F15: チーム名 | G15: 公式戦への 初参加 | H15: 全国ホープス選抜選考会の成績 | J15: 特記事項
B16: 1 | C16: ③ カブ男子 | F16: =IF(D16="","",IF(種目別参加人数一覧!$C$10="","",種目別参加人数一覧!$C$10))
B17: 2 | C17: ③ カブ男子 | F17: =IF(D17="","",IF(種目別参加人数一覧!$C$10="","",種目別参加人数一覧!$C$10))
B18: 3 | C18: ③ カブ男子 | F18: =IF(D18="","",IF(種目別参加人数一覧!$C$10="","",種目別参加人数一覧!$C$10))
B19: 4 | C19: ③ カブ男子 | F19: =IF(D19="","",IF(種目別参加人数一覧!$C$10="","",種目別参加人数一覧!$C$10))
B20: 5 | C20: ③ カブ男子 | F20: =IF(D20="","",IF(種目別参加人数一覧!$C$10="","",種目別参加人数一覧!$C$10))
B21: 6 | C21: ③ カブ男子 | F21: =IF(D21="","",IF(種目別参加人数一覧!$C$10="","",種目別参加人数一覧!$C$10))
B22: 7 | C22: ③ カブ男子 | F22: =IF(D22="","",IF(種目別参加人数一覧!$C$10="","",種目別参加人数一覧!$C$10))
B23: 8 | C23: ③ カブ男子 | F23: =IF(D23="","",IF(種目別参加人数一覧!$C$10="","",種目別参加人数一覧!$C$10))
B24: 9 | C24: ③ カブ男子 | F24: =IF(D24="","",IF(種目別参加人数一覧!$C$10="","",種目別参加人数一覧!$C$10))
B25: 10 | C25: ③ カブ男子 | F25: =IF(D25="","",IF(種目別参加人数一覧!$C$10="","",種目別参加人数一覧!$C$10))
B26: 11 | C26: ③ カブ男子 | F26: =IF(D26="","",IF(種目別参加人数一覧!$C$10="","",種目別参加人数一覧!$C$10))
B27: 12 | C27: ③ カブ男子 | F27: =IF(D27="","",IF(種目別参加人数一覧!$C$10="","",種目別参加人数一覧!$C$10))
... B35: 20 | C35: ③ カブ男子 | F35: =IF(D35="","",IF(種目別参加人数一覧!$C$10="","",種目別参加人数一覧!$C$10))
C37: 実績の優先順位：ホープス選抜県予選 → 東京選手権県予選 → 全日本ホカバ県予選。バンビのシードは東京選手権県予選を基準とします。 | D37: 実績の優先順位：ホープス選抜県予選 → 東京選手権県予選 → 全日本ホカバ県予選。バンビのシードは東京選手権県予選を基準とします。 | E37: 実績の優先順位：ホープス選抜県予選 → 東京選手権県予選 → 全日本ホカバ県予選。バンビのシードは東京選手権県予選を基準とします。 | F37: 実績の優先順位：ホープス選抜県予選 → 東京選手権県予選 → 全日本ホカバ県予選。バンビのシードは東京選手権県予選を基準とします。 | G37: 実績の優先順位：ホープス選抜県予選 → 東京選手権県予選 → 全日本ホカバ県予選。バンビのシードは東京選手権県予選を基準とします。 | H37: 実績の優先順位：ホープス選抜県予選 → 東京選手権県予選 → 全日本ホカバ県予選。バンビのシードは東京選手権県予選を基準とします。 | I37: 実績の優先順位：ホープス選抜県予選 → 東京選手権県予選 → 全日本ホカバ県予選。バンビのシードは東京選手権県予選を基準とします。 | J37: 実績の優先順位：ホープス選抜県予選 → 東京選手権県予選 → 全日本ホカバ県予選。バンビのシードは東京選手権県予選を基準とします。 | K37: 実績の優先順位：ホープス選抜県予選 → 東京選手権県予選 → 全日本ホカバ県予選。バンビのシードは東京選手権県予選を基準とします。 | L37: 実績の優先順位：ホープス選抜県予選 → 東京選手権県予選 → 全日本ホカバ県予選。バンビのシードは東京選手権県予選を基準とします。

Sheet バンビ男
B2: 令和8年度 東アジアホープス選考会兼ホープス以下新人戦 参加申込書 | C2: 令和8年度 東アジアホープス選考会兼ホープス以下新人戦 | D2: 令和8年度 東アジアホープス選考会兼ホープス以下新人戦 | E2: 令和8年度 東アジアホープス選考会兼ホープス以下新人戦 | F2: 令和8年度 東アジアホープス選考会兼ホープス以下新人戦 | G2: 令和8年度 東アジアホープス選考会兼ホープス以下新人戦 | H2: 令和8年度 東アジアホープス選考会兼ホープス以下新人戦 | I2: 令和8年度 東アジアホープス選考会兼ホープス以下新人戦 | J2: 令和8年度 東アジアホープス選考会兼ホープス以下新人戦 | K2: 令和8年度 東アジアホープス選考会兼ホープス以下新人戦 | L2: 令和8年度 東アジアホープス選考会兼ホープス以下新人戦
B3: ⑤ バンビ男子 小学１年生以下・幼児 | C3: ⑤ バンビ男子 小学1年生以下・幼児 開催日：2026年12月27日（日） | D3: ⑤ バンビ男子 小学1年生以下・幼児 開催日：2026年12月27日（日） | E3: ⑤ バンビ男子 小学1年生以下・幼児 開催日：2026年12月27日（日） | F3: ⑤ バンビ男子 小学1年生以下・幼児 開催日：2026年12月27日（日） | G3: ⑤ バンビ男子 小学1年生以下・幼児 開催日：2026年12月27日（日） | H3: ⑤ バンビ男子 小学1年生以下・幼児 開催日：2026年12月27日（日） | I3: ⑤ バンビ男子 小学1年生以下・幼児 開催日：2026年12月27日（日） | J3: ⑤ バンビ男子 小学1年生以下・幼児 開催日：2026年12月27日（日） | K3: ⑤ バンビ男子 小学1年生以下・幼児 開催日：2026年12月27日（日） | L3: ⑤ バンビ男子 小学1年生以下・幼児 開催日：2026年12月27日（日）
B5: 黄色：入力・選択する欄 | D5: 青色：自動入力される欄（変更不要）
B7: 姓と名の間には、必ず全角スペースを1つ入れてください。 | C7: 黄色の欄を入力。種目・チーム名は自動表示です。1人1種目でお申し込みください。 | D7: 黄色の欄を入力。種目・チーム名は自動表示です。1人1種目でお申し込みください。 | E7: 黄色の欄を入力。種目・チーム名は自動表示です。1人1種目でお申し込みください。 | F7: 黄色の欄を入力。種目・チーム名は自動表示です。1人1種目でお申し込みください。 | G7: 黄色の欄を入力。種目・チーム名は自動表示です。1人1種目でお申し込みください。 | H7: 黄色の欄を入力。種目・チーム名は自動表示です。1人1種目でお申し込みください。 | I7: 黄色の欄を入力。種目・チーム名は自動表示です。1人1種目でお申し込みください。 | J7: 黄色の欄を入力。種目・チーム名は自動表示です。1人1種目でお申し込みください。 | K7: 黄色の欄を入力。種目・チーム名は自動表示です。1人1種目でお申し込みください。 | L7: 黄色の欄を入力。種目・チーム名は自動表示です。1人1種目でお申し込みください。
B8: 学年・成績はプルダウンで選択。「公式戦への初参加」は公式戦に初めて出場する場合に「はい」を選択。 | C8: 学年は大会開催時点の学年を選択。選手名は姓と名の間を全角スペースで入力してください。 | D8: 学年は大会開催時点の学年を選択。選手名は姓と名の間を全角スペースで入力してください。 | E8: 学年は大会開催時点の学年を選択。選手名は姓と名の間を全角スペースで入力してください。 | F8: 学年は大会開催時点の学年を選択。選手名は姓と名の間を全角スペースで入力してください。 | G8: 学年は大会開催時点の学年を選択。選手名は姓と名の間を全角スペースで入力してください。 | H8: 学年は大会開催時点の学年を選択。選手名は姓と名の間を全角スペースで入力してください。 | I8: 学年は大会開催時点の学年を選択。選手名は姓と名の間を全角スペースで入力してください。 | J8: 学年は大会開催時点の学年を選択。選手名は姓と名の間を全角スペースで入力してください。 | K8: 学年は大会開催時点の学年を選択。選手名は姓と名の間を全角スペースで入力してください。 | L8: 学年は大会開催時点の学年を選択。選手名は姓と名の間を全角スペースで入力してください。
B9: 成績は全国ホープス選抜選考会の結果を入力。不出場の場合は「不参加」を選択してください。 | C9: 「公式戦への初参加」は、この大会に限らず公式戦に初めて出場する場合に「はい」を選択。 | D9: 「公式戦への初参加」は、この大会に限らず公式戦に初めて出場する場合に「はい」を選択。 | E9: 「公式戦への初参加」は、この大会に限らず公式戦に初めて出場する場合に「はい」を選択。 | F9: 「公式戦への初参加」は、この大会に限らず公式戦に初めて出場する場合に「はい」を選択。 | G9: 「公式戦への初参加」は、この大会に限らず公式戦に初めて出場する場合に「はい」を選択。 | H9: 「公式戦への初参加」は、この大会に限らず公式戦に初めて出場する場合に「はい」を選択。 | I9: 「公式戦への初参加」は、この大会に限らず公式戦に初めて出場する場合に「はい」を選択。 | J9: 「公式戦への初参加」は、この大会に限らず公式戦に初めて出場する場合に「はい」を選択。 | K9: 「公式戦への初参加」は、この大会に限らず公式戦に初めて出場する場合に「はい」を選択。 | L9: 「公式戦への初参加」は、この大会に限らず公式戦に初めて出場する場合に「はい」を選択。
B10: 上記大会に不参加で、前々回大会にベスト8入賞した選手のみ、大会名と結果を「特記事項」へ記入してください。 | C10: 実績は直近の各県予選会の結果を入力。順位が確定している場合は「○位」、未確定の範囲は「ベスト○」。 | D10: 実績は直近の各県予選会の結果を入力。順位が確定している場合は「○位」、未確定の範囲は「ベスト○」。 | E10: 実績は直近の各県予選会の結果を入力。順位が確定している場合は「○位」、未確定の範囲は「ベスト○」。 | F10: 実績は直近の各県予選会の結果を入力。順位が確定している場合は「○位」、未確定の範囲は「ベスト○」。 | G10: 実績は直近の各県予選会の結果を入力。順位が確定している場合は「○位」、未確定の範囲は「ベスト○」。 | H10: 実績は直近の各県予選会の結果を入力。順位が確定している場合は「○位」、未確定の範囲は「ベスト○」。 | I10: 実績は直近の各県予選会の結果を入力。順位が確定している場合は「○位」、未確定の範囲は「ベスト○」。 | J10: 実績は直近の各県予選会の結果を入力。順位が確定している場合は「○位」、未確定の範囲は「ベスト○」。 | K10: 実績は直近の各県予選会の結果を入力。順位が確定している場合は「○位」、未確定の範囲は「ベスト○」。 | L10: 実績は直近の各県予選会の結果を入力。順位が確定している場合は「○位」、未確定の範囲は「ベスト○」。
B11: 転入やその他の補足事項も「特記事項」へ記入してください。 | C11: ホープス選抜は最終結果と予選リーグ順位を入力。リーグ順位は県予選会の結果です。 | D11: ホープス選抜は最終結果と予選リーグ順位を入力。リーグ順位は県予選会の結果です。 | E11: ホープス選抜は最終結果と予選リーグ順位を入力。リーグ順位は県予選会の結果です。 | F11: ホープス選抜は最終結果と予選リーグ順位を入力。リーグ順位は県予選会の結果です。 | G11: ホープス選抜は最終結果と予選リーグ順位を入力。リーグ順位は県予選会の結果です。 | H11: ホープス選抜は最終結果と予選リーグ順位を入力。リーグ順位は県予選会の結果です。 | I11: ホープス選抜は最終結果と予選リーグ順位を入力。リーグ順位は県予選会の結果です。 | J11: ホープス選抜は最終結果と予選リーグ順位を入力。リーグ順位は県予選会の結果です。 | K11: ホープス選抜は最終結果と予選リーグ順位を入力。リーグ順位は県予選会の結果です。 | L11: ホープス選抜は最終結果と予選リーグ順位を入力。リーグ順位は県予選会の結果です。
C12: 出場していない大会は「不参加」。該当なしは「該当なし」を選択。未入力のまま提出しないでください。 | D12: 出場していない大会は「不参加」。該当なしは「該当なし」を選択。未入力のまま提出しないでください。 | E12: 出場していない大会は「不参加」。該当なしは「該当なし」を選択。未入力のまま提出しないでください。 | F12: 出場していない大会は「不参加」。該当なしは「該当なし」を選択。未入力のまま提出しないでください。 | G12: 出場していない大会は「不参加」。該当なしは「該当なし」を選択。未入力のまま提出しないでください。 | H12: 出場していない大会は「不参加」。該当なしは「該当なし」を選択。未入力のまま提出しないでください。 | I12: 出場していない大会は「不参加」。該当なしは「該当なし」を選択。未入力のまま提出しないでください。 | J12: 出場していない大会は「不参加」。該当なしは「該当なし」を選択。未入力のまま提出しないでください。 | K12: 出場していない大会は「不参加」。該当なしは「該当なし」を選択。未入力のまま提出しないでください。 | L12: 出場していない大会は「不参加」。該当なしは「該当なし」を選択。未入力のまま提出しないでください。
C13: 特記事項：転入元・大会名・県代表歴・全国大会実績、選択肢にない結果などを記入。 | D13: 特記事項：転入元・大会名・県代表歴・全国大会実績、選択肢にない結果などを記入。 | E13: 特記事項：転入元・大会名・県代表歴・全国大会実績、選択肢にない結果などを記入。 | F13: 特記事項：転入元・大会名・県代表歴・全国大会実績、選択肢にない結果などを記入。 | G13: 特記事項：転入元・大会名・県代表歴・全国大会実績、選択肢にない結果などを記入。 | H13: 特記事項：転入元・大会名・県代表歴・全国大会実績、選択肢にない結果などを記入。 | I13: 特記事項：転入元・大会名・県代表歴・全国大会実績、選択肢にない結果などを記入。 | J13: 特記事項：転入元・大会名・県代表歴・全国大会実績、選択肢にない結果などを記入。 | K13: 特記事項：転入元・大会名・県代表歴・全国大会実績、選択肢にない結果などを記入。 | L13: 特記事項：転入元・大会名・県代表歴・全国大会実績、選択肢にない結果などを記入。
C14: 記入例：最終結果「ベスト8」／予選リーグ「1位」。順位が決まっている場合は最終結果「5位」など。 | D14: 記入例：最終結果「ベスト8」／予選リーグ「1位」。順位が決まっている場合は最終結果「5位」など。 | E14: 記入例：最終結果「ベスト8」／予選リーグ「1位」。順位が決まっている場合は最終結果「5位」など。 | F14: 記入例：最終結果「ベスト8」／予選リーグ「1位」。順位が決まっている場合は最終結果「5位」など。 | G14: 記入例：最終結果「ベスト8」／予選リーグ「1位」。順位が決まっている場合は最終結果「5位」など。 | H14: 記入例：最終結果「ベスト8」／予選リーグ「1位」。順位が決まっている場合は最終結果「5位」など。 | I14: 記入例：最終結果「ベスト8」／予選リーグ「1位」。順位が決まっている場合は最終結果「5位」など。 | J14: 記入例：最終結果「ベスト8」／予選リーグ「1位」。順位が決まっている場合は最終結果「5位」など。 | K14: 記入例：最終結果「ベスト8」／予選リーグ「1位」。順位が決まっている場合は最終結果「5位」など。 | L14: 記入例：最終結果「ベスト8」／予選リーグ「1位」。順位が決まっている場合は最終結果「5位」など。
B15: No. | C15: 出場種目 | D15: 選手名 | E15: 学年 | F15: チーム名 | G15: 公式戦への 初参加 | H15: 全国ホープス選抜選考会の成績 | J15: 特記事項
B16: 1 | C16: ⑤ バンビ男子 | F16: =IF(D16="","",IF(種目別参加人数一覧!$C$10="","",種目別参加人数一覧!$C$10))
B17: 2 | C17: ⑤ バンビ男子 | F17: =IF(D17="","",IF(種目別参加人数一覧!$C$10="","",種目別参加人数一覧!$C$10))
B18: 3 | C18: ⑤ バンビ男子 | F18: =IF(D18="","",IF(種目別参加人数一覧!$C$10="","",種目別参加人数一覧!$C$10))
B19: 4 | C19: ⑤ バンビ男子 | F19: =IF(D19="","",IF(種目別参加人数一覧!$C$10="","",種目別参加人数一覧!$C$10))
B20: 5 | C20: ⑤ バンビ男子 | F20: =IF(D20="","",IF(種目別参加人数一覧!$C$10="","",種目別参加人数一覧!$C$10))
B21: 6 | C21: ⑤ バンビ男子 | F21: =IF(D21="","",IF(種目別参加人数一覧!$C$10="","",種目別参加人数一覧!$C$10))
B22: 7 | C22: ⑤ バンビ男子 | F22: =IF(D22="","",IF(種目別参加人数一覧!$C$10="","",種目別参加人数一覧!$C$10))
B23: 8 | C23: ⑤ バンビ男子 | F23: =IF(D23="","",IF(種目別参加人数一覧!$C$10="","",種目別参加人数一覧!$C$10))
B24: 9 | C24: ⑤ バンビ男子 | F24: =IF(D24="","",IF(種目別参加人数一覧!$C$10="","",種目別参加人数一覧!$C$10))
B25: 10 | C25: ⑤ バンビ男子 | F25: =IF(D25="","",IF(種目別参加人数一覧!$C$10="","",種目別参加人数一覧!$C$10))
B26: 11 | C26: ⑤ バンビ男子 | F26: =IF(D26="","",IF(種目別参加人数一覧!$C$10="","",種目別参加人数一覧!$C$10))
B27: 12 | C27: ⑤ バンビ男子 | F27: =IF(D27="","",IF(種目別参加人数一覧!$C$10="","",種目別参加人数一覧!$C$10))
... B35: 20 | C35: ⑤ バンビ男子 | F35: =IF(D35="","",IF(種目別参加人数一覧!$C$10="","",種目別参加人数一覧!$C$10))
C37: 実績の優先順位：ホープス選抜県予選 → 東京選手権県予選 → 全日本ホカバ県予選。バンビのシードは東京選手権県予選を基準とします。 | D37: 実績の優先順位：ホープス選抜県予選 → 東京選手権県予選 → 全日本ホカバ県予選。バンビのシードは東京選手権県予選を基準とします。 | E37: 実績の優先順位：ホープス選抜県予選 → 東京選手権県予選 → 全日本ホカバ県予選。バンビのシードは東京選手権県予選を基準とします。 | F37: 実績の優先順位：ホープス選抜県予選 → 東京選手権県予選 → 全日本ホカバ県予選。バンビのシードは東京選手権県予選を基準とします。 | G37: 実績の優先順位：ホープス選抜県予選 → 東京選手権県予選 → 全日本ホカバ県予選。バンビのシードは東京選手権県予選を基準とします。 | H37: 実績の優先順位：ホープス選抜県予選 → 東京選手権県予選 → 全日本ホカバ県予選。バンビのシードは東京選手権県予選を基準とします。 | I37: 実績の優先順位：ホープス選抜県予選 → 東京選手権県予選 → 全日本ホカバ県予選。バンビのシードは東京選手権県予選を基準とします。 | J37: 実績の優先順位：ホープス選抜県予選 → 東京選手権県予選 → 全日本ホカバ県予選。バンビのシードは東京選手権県予選を基準とします。 | K37: 実績の優先順位：ホープス選抜県予選 → 東京選手権県予選 → 全日本ホカバ県予選。バンビのシードは東京選手権県予選を基準とします。 | L37: 実績の優先順位：ホープス選抜県予選 → 東京選手権県予選 → 全日本ホカバ県予選。バンビのシードは東京選手権県予選を基準とします。

Sheet ホープス女
B2: 令和8年度 東アジアホープス選考会兼ホープス以下新人戦 参加申込書 | C2: 令和8年度 東アジアホープス選考会兼ホープス以下新人戦 | D2: 令和8年度 東アジアホープス選考会兼ホープス以下新人戦 | E2: 令和8年度 東アジアホープス選考会兼ホープス以下新人戦 | F2: 令和8年度 東アジアホープス選考会兼ホープス以下新人戦 | G2: 令和8年度 東アジアホープス選考会兼ホープス以下新人戦 | H2: 令和8年度 東アジアホープス選考会兼ホープス以下新人戦 | I2: 令和8年度 東アジアホープス選考会兼ホープス以下新人戦 | J2: 令和8年度 東アジアホープス選考会兼ホープス以下新人戦 | K2: 令和8年度 東アジアホープス選考会兼ホープス以下新人戦 | L2: 令和8年度 東アジアホープス選考会兼ホープス以下新人戦
B3: ② ホープス女子 小学５年生以下 | C3: ② ホープス女子 小学5年生以下 開催日：2026年12月27日（日） | D3: ② ホープス女子 小学5年生以下 開催日：2026年12月27日（日） | E3: ② ホープス女子 小学5年生以下 開催日：2026年12月27日（日） | F3: ② ホープス女子 小学5年生以下 開催日：2026年12月27日（日） | G3: ② ホープス女子 小学5年生以下 開催日：2026年12月27日（日） | H3: ② ホープス女子 小学5年生以下 開催日：2026年12月27日（日） | I3: ② ホープス女子 小学5年生以下 開催日：2026年12月27日（日） | J3: ② ホープス女子 小学5年生以下 開催日：2026年12月27日（日） | K3: ② ホープス女子 小学5年生以下 開催日：2026年12月27日（日） | L3: ② ホープス女子 小学5年生以下 開催日：2026年12月27日（日）
B5: 黄色：入力・選択する欄 | D5: 青色：自動入力される欄（変更不要）
B7: 姓と名の間には、必ず全角スペースを1つ入れてください。 | C7: 黄色の欄を入力。種目・チーム名は自動表示です。1人1種目でお申し込みください。 | D7: 黄色の欄を入力。種目・チーム名は自動表示です。1人1種目でお申し込みください。 | E7: 黄色の欄を入力。種目・チーム名は自動表示です。1人1種目でお申し込みください。 | F7: 黄色の欄を入力。種目・チーム名は自動表示です。1人1種目でお申し込みください。 | G7: 黄色の欄を入力。種目・チーム名は自動表示です。1人1種目でお申し込みください。 | H7: 黄色の欄を入力。種目・チーム名は自動表示です。1人1種目でお申し込みください。 | I7: 黄色の欄を入力。種目・チーム名は自動表示です。1人1種目でお申し込みください。 | J7: 黄色の欄を入力。種目・チーム名は自動表示です。1人1種目でお申し込みください。 | K7: 黄色の欄を入力。種目・チーム名は自動表示です。1人1種目でお申し込みください。 | L7: 黄色の欄を入力。種目・チーム名は自動表示です。1人1種目でお申し込みください。
B8: 学年・成績はプルダウンで選択。「公式戦への初参加」は公式戦に初めて出場する場合に「はい」を選択。 | C8: 学年は大会開催時点の学年を選択。選手名は姓と名の間を全角スペースで入力してください。 | D8: 学年は大会開催時点の学年を選択。選手名は姓と名の間を全角スペースで入力してください。 | E8: 学年は大会開催時点の学年を選択。選手名は姓と名の間を全角スペースで入力してください。 | F8: 学年は大会開催時点の学年を選択。選手名は姓と名の間を全角スペースで入力してください。 | G8: 学年は大会開催時点の学年を選択。選手名は姓と名の間を全角スペースで入力してください。 | H8: 学年は大会開催時点の学年を選択。選手名は姓と名の間を全角スペースで入力してください。 | I8: 学年は大会開催時点の学年を選択。選手名は姓と名の間を全角スペースで入力してください。 | J8: 学年は大会開催時点の学年を選択。選手名は姓と名の間を全角スペースで入力してください。 | K8: 学年は大会開催時点の学年を選択。選手名は姓と名の間を全角スペースで入力してください。 | L8: 学年は大会開催時点の学年を選択。選手名は姓と名の間を全角スペースで入力してください。
B9: 成績は全国ホープス選抜選考会の結果を入力。不出場の場合は「不参加」を選択してください。 | C9: 「公式戦への初参加」は、この大会に限らず公式戦に初めて出場する場合に「はい」を選択。 | D9: 「公式戦への初参加」は、この大会に限らず公式戦に初めて出場する場合に「はい」を選択。 | E9: 「公式戦への初参加」は、この大会に限らず公式戦に初めて出場する場合に「はい」を選択。 | F9: 「公式戦への初参加」は、この大会に限らず公式戦に初めて出場する場合に「はい」を選択。 | G9: 「公式戦への初参加」は、この大会に限らず公式戦に初めて出場する場合に「はい」を選択。 | H9: 「公式戦への初参加」は、この大会に限らず公式戦に初めて出場する場合に「はい」を選択。 | I9: 「公式戦への初参加」は、この大会に限らず公式戦に初めて出場する場合に「はい」を選択。 | J9: 「公式戦への初参加」は、この大会に限らず公式戦に初めて出場する場合に「はい」を選択。 | K9: 「公式戦への初参加」は、この大会に限らず公式戦に初めて出場する場合に「はい」を選択。 | L9: 「公式戦への初参加」は、この大会に限らず公式戦に初めて出場する場合に「はい」を選択。
B10: 上記大会に不参加で、前々回大会にベスト8入賞した選手のみ、大会名と結果を「特記事項」へ記入してください。 | C10: 実績は直近の各県予選会の結果を入力。順位が確定している場合は「○位」、未確定の範囲は「ベスト○」。 | D10: 実績は直近の各県予選会の結果を入力。順位が確定している場合は「○位」、未確定の範囲は「ベスト○」。 | E10: 実績は直近の各県予選会の結果を入力。順位が確定している場合は「○位」、未確定の範囲は「ベスト○」。 | F10: 実績は直近の各県予選会の結果を入力。順位が確定している場合は「○位」、未確定の範囲は「ベスト○」。 | G10: 実績は直近の各県予選会の結果を入力。順位が確定している場合は「○位」、未確定の範囲は「ベスト○」。 | H10: 実績は直近の各県予選会の結果を入力。順位が確定している場合は「○位」、未確定の範囲は「ベスト○」。 | I10: 実績は直近の各県予選会の結果を入力。順位が確定している場合は「○位」、未確定の範囲は「ベスト○」。 | J10: 実績は直近の各県予選会の結果を入力。順位が確定している場合は「○位」、未確定の範囲は「ベスト○」。 | K10: 実績は直近の各県予選会の結果を入力。順位が確定している場合は「○位」、未確定の範囲は「ベスト○」。 | L10: 実績は直近の各県予選会の結果を入力。順位が確定している場合は「○位」、未確定の範囲は「ベスト○」。
B11: 転入やその他の補足事項も「特記事項」へ記入してください。 | C11: ホープス選抜は最終結果と予選リーグ順位を入力。リーグ順位は県予選会の結果です。 | D11: ホープス選抜は最終結果と予選リーグ順位を入力。リーグ順位は県予選会の結果です。 | E11: ホープス選抜は最終結果と予選リーグ順位を入力。リーグ順位は県予選会の結果です。 | F11: ホープス選抜は最終結果と予選リーグ順位を入力。リーグ順位は県予選会の結果です。 | G11: ホープス選抜は最終結果と予選リーグ順位を入力。リーグ順位は県予選会の結果です。 | H11: ホープス選抜は最終結果と予選リーグ順位を入力。リーグ順位は県予選会の結果です。 | I11: ホープス選抜は最終結果と予選リーグ順位を入力。リーグ順位は県予選会の結果です。 | J11: ホープス選抜は最終結果と予選リーグ順位を入力。リーグ順位は県予選会の結果です。 | K11: ホープス選抜は最終結果と予選リーグ順位を入力。リーグ順位は県予選会の結果です。 | L11: ホープス選抜は最終結果と予選リーグ順位を入力。リーグ順位は県予選会の結果です。
C12: 出場していない大会は「不参加」。該当なしは「該当なし」を選択。未入力のまま提出しないでください。 | D12: 出場していない大会は「不参加」。該当なしは「該当なし」を選択。未入力のまま提出しないでください。 | E12: 出場していない大会は「不参加」。該当なしは「該当なし」を選択。未入力のまま提出しないでください。 | F12: 出場していない大会は「不参加」。該当なしは「該当なし」を選択。未入力のまま提出しないでください。 | G12: 出場していない大会は「不参加」。該当なしは「該当なし」を選択。未入力のまま提出しないでください。 | H12: 出場していない大会は「不参加」。該当なしは「該当なし」を選択。未入力のまま提出しないでください。 | I12: 出場していない大会は「不参加」。該当なしは「該当なし」を選択。未入力のまま提出しないでください。 | J12: 出場していない大会は「不参加」。該当なしは「該当なし」を選択。未入力のまま提出しないでください。 | K12: 出場していない大会は「不参加」。該当なしは「該当なし」を選択。未入力のまま提出しないでください。 | L12: 出場していない大会は「不参加」。該当なしは「該当なし」を選択。未入力のまま提出しないでください。
C13: 特記事項：転入元・大会名・県代表歴・全国大会実績、選択肢にない結果などを記入。 | D13: 特記事項：転入元・大会名・県代表歴・全国大会実績、選択肢にない結果などを記入。 | E13: 特記事項：転入元・大会名・県代表歴・全国大会実績、選択肢にない結果などを記入。 | F13: 特記事項：転入元・大会名・県代表歴・全国大会実績、選択肢にない結果などを記入。 | G13: 特記事項：転入元・大会名・県代表歴・全国大会実績、選択肢にない結果などを記入。 | H13: 特記事項：転入元・大会名・県代表歴・全国大会実績、選択肢にない結果などを記入。 | I13: 特記事項：転入元・大会名・県代表歴・全国大会実績、選択肢にない結果などを記入。 | J13: 特記事項：転入元・大会名・県代表歴・全国大会実績、選択肢にない結果などを記入。 | K13: 特記事項：転入元・大会名・県代表歴・全国大会実績、選択肢にない結果などを記入。 | L13: 特記事項：転入元・大会名・県代表歴・全国大会実績、選択肢にない結果などを記入。
C14: 記入例：最終結果「ベスト8」／予選リーグ「1位」。順位が決まっている場合は最終結果「5位」など。 | D14: 記入例：最終結果「ベスト8」／予選リーグ「1位」。順位が決まっている場合は最終結果「5位」など。 | E14: 記入例：最終結果「ベスト8」／予選リーグ「1位」。順位が決まっている場合は最終結果「5位」など。 | F14: 記入例：最終結果「ベスト8」／予選リーグ「1位」。順位が決まっている場合は最終結果「5位」など。 | G14: 記入例：最終結果「ベスト8」／予選リーグ「1位」。順位が決まっている場合は最終結果「5位」など。 | H14: 記入例：最終結果「ベスト8」／予選リーグ「1位」。順位が決まっている場合は最終結果「5位」など。 | I14: 記入例：最終結果「ベスト8」／予選リーグ「1位」。順位が決まっている場合は最終結果「5位」など。 | J14: 記入例：最終結果「ベスト8」／予選リーグ「1位」。順位が決まっている場合は最終結果「5位」など。 | K14: 記入例：最終結果「ベスト8」／予選リーグ「1位」。順位が決まっている場合は最終結果「5位」など。 | L14: 記入例：最終結果「ベスト8」／予選リーグ「1位」。順位が決まっている場合は最終結果「5位」など。
B15: No. | C15: 出場種目 | D15: 選手名 | E15: 学年 | F15: チーム名 | G15: 公式戦への 初参加 | H15: 全国ホープス選抜選考会の成績 | J15: 特記事項
B16: 1 | C16: ② ホープス女子 | F16: =IF(D16="","",IF(種目別参加人数一覧!$C$10="","",種目別参加人数一覧!$C$10))
B17: 2 | C17: ② ホープス女子 | F17: =IF(D17="","",IF(種目別参加人数一覧!$C$10="","",種目別参加人数一覧!$C$10))
B18: 3 | C18: ② ホープス女子 | F18: =IF(D18="","",IF(種目別参加人数一覧!$C$10="","",種目別参加人数一覧!$C$10))
B19: 4 | C19: ② ホープス女子 | F19: =IF(D19="","",IF(種目別参加人数一覧!$C$10="","",種目別参加人数一覧!$C$10))
B20: 5 | C20: ② ホープス女子 | F20: =IF(D20="","",IF(種目別参加人数一覧!$C$10="","",種目別参加人数一覧!$C$10))
B21: 6 | C21: ② ホープス女子 | F21: =IF(D21="","",IF(種目別参加人数一覧!$C$10="","",種目別参加人数一覧!$C$10))
B22: 7 | C22: ② ホープス女子 | F22: =IF(D22="","",IF(種目別参加人数一覧!$C$10="","",種目別参加人数一覧!$C$10))
B23: 8 | C23: ② ホープス女子 | F23: =IF(D23="","",IF(種目別参加人数一覧!$C$10="","",種目別参加人数一覧!$C$10))
B24: 9 | C24: ② ホープス女子 | F24: =IF(D24="","",IF(種目別参加人数一覧!$C$10="","",種目別参加人数一覧!$C$10))
B25: 10 | C25: ② ホープス女子 | F25: =IF(D25="","",IF(種目別参加人数一覧!$C$10="","",種目別参加人数一覧!$C$10))
B26: 11 | C26: ② ホープス女子 | F26: =IF(D26="","",IF(種目別参加人数一覧!$C$10="","",種目別参加人数一覧!$C$10))
B27: 12 | C27: ② ホープス女子 | F27: =IF(D27="","",IF(種目別参加人数一覧!$C$10="","",種目別参加人数一覧!$C$10))
... B35: 20 | C35: ② ホープス女子 | F35: =IF(D35="","",IF(種目別参加人数一覧!$C$10="","",種目別参加人数一覧!$C$10))
C37: 実績の優先順位：ホープス選抜県予選 → 東京選手権県予選 → 全日本ホカバ県予選。バンビのシードは東京選手権県予選を基準とします。 | D37: 実績の優先順位：ホープス選抜県予選 → 東京選手権県予選 → 全日本ホカバ県予選。バンビのシードは東京選手権県予選を基準とします。 | E37: 実績の優先順位：ホープス選抜県予選 → 東京選手権県予選 → 全日本ホカバ県予選。バンビのシードは東京選手権県予選を基準とします。 | F37: 実績の優先順位：ホープス選抜県予選 → 東京選手権県予選 → 全日本ホカバ県予選。バンビのシードは東京選手権県予選を基準とします。 | G37: 実績の優先順位：ホープス選抜県予選 → 東京選手権県予選 → 全日本ホカバ県予選。バンビのシードは東京選手権県予選を基準とします。 | H37: 実績の優先順位：ホープス選抜県予選 → 東京選手権県予選 → 全日本ホカバ県予選。バンビのシードは東京選手権県予選を基準とします。 | I37: 実績の優先順位：ホープス選抜県予選 → 東京選手権県予選 → 全日本ホカバ県予選。バンビのシードは東京選手権県予選を基準とします。 | J37: 実績の優先順位：ホープス選抜県予選 → 東京選手権県予選 → 全日本ホカバ県予選。バンビのシードは東京選手権県予選を基準とします。 | K37: 実績の優先順位：ホープス選抜県予選 → 東京選手権県予選 → 全日本ホカバ県予選。バンビのシードは東京選手権県予選を基準とします。 | L37: 実績の優先順位：ホープス選抜県予選 → 東京選手権県予選 → 全日本ホカバ県予選。バンビのシードは東京選手権県予選を基準とします。

Sheet カブ女
B2: 令和8年度 東アジアホープス選考会兼ホープス以下新人戦 参加申込書 | C2: 令和8年度 東アジアホープス選考会兼ホープス以下新人戦 | D2: 令和8年度 東アジアホープス選考会兼ホープス以下新人戦 | E2: 令和8年度 東アジアホープス選考会兼ホープス以下新人戦 | F2: 令和8年度 東アジアホープス選考会兼ホープス以下新人戦 | G2: 令和8年度 東アジアホープス選考会兼ホープス以下新人戦 | H2: 令和8年度 東アジアホープス選考会兼ホープス以下新人戦 | I2: 令和8年度 東アジアホープス選考会兼ホープス以下新人戦 | J2: 令和8年度 東アジアホープス選考会兼ホープス以下新人戦 | K2: 令和8年度 東アジアホープス選考会兼ホープス以下新人戦 | L2: 令和8年度 東アジアホープス選考会兼ホープス以下新人戦
B3: ④ カブ女子 小学３年生以下 | C3: ④ カブ女子 小学3年生以下 開催日：2026年12月27日（日） | D3: ④ カブ女子 小学3年生以下 開催日：2026年12月27日（日） | E3: ④ カブ女子 小学3年生以下 開催日：2026年12月27日（日） | F3: ④ カブ女子 小学3年生以下 開催日：2026年12月27日（日） | G3: ④ カブ女子 小学3年生以下 開催日：2026年12月27日（日） | H3: ④ カブ女子 小学3年生以下 開催日：2026年12月27日（日） | I3: ④ カブ女子 小学3年生以下 開催日：2026年12月27日（日） | J3: ④ カブ女子 小学3年生以下 開催日：2026年12月27日（日） | K3: ④ カブ女子 小学3年生以下 開催日：2026年12月27日（日） | L3: ④ カブ女子 小学3年生以下 開催日：2026年12月27日（日）
B5: 黄色：入力・選択する欄 | D5: 青色：自動入力される欄（変更不要）
B7: 姓と名の間には、必ず全角スペースを1つ入れてください。 | C7: 黄色の欄を入力。種目・チーム名は自動表示です。1人1種目でお申し込みください。 | D7: 黄色の欄を入力。種目・チーム名は自動表示です。1人1種目でお申し込みください。 | E7: 黄色の欄を入力。種目・チーム名は自動表示です。1人1種目でお申し込みください。 | F7: 黄色の欄を入力。種目・チーム名は自動表示です。1人1種目でお申し込みください。 | G7: 黄色の欄を入力。種目・チーム名は自動表示です。1人1種目でお申し込みください。 | H7: 黄色の欄を入力。種目・チーム名は自動表示です。1人1種目でお申し込みください。 | I7: 黄色の欄を入力。種目・チーム名は自動表示です。1人1種目でお申し込みください。 | J7: 黄色の欄を入力。種目・チーム名は自動表示です。1人1種目でお申し込みください。 | K7: 黄色の欄を入力。種目・チーム名は自動表示です。1人1種目でお申し込みください。 | L7: 黄色の欄を入力。種目・チーム名は自動表示です。1人1種目でお申し込みください。
B8: 学年・成績はプルダウンで選択。「公式戦への初参加」は公式戦に初めて出場する場合に「はい」を選択。 | C8: 学年は大会開催時点の学年を選択。選手名は姓と名の間を全角スペースで入力してください。 | D8: 学年は大会開催時点の学年を選択。選手名は姓と名の間を全角スペースで入力してください。 | E8: 学年は大会開催時点の学年を選択。選手名は姓と名の間を全角スペースで入力してください。 | F8: 学年は大会開催時点の学年を選択。選手名は姓と名の間を全角スペースで入力してください。 | G8: 学年は大会開催時点の学年を選択。選手名は姓と名の間を全角スペースで入力してください。 | H8: 学年は大会開催時点の学年を選択。選手名は姓と名の間を全角スペースで入力してください。 | I8: 学年は大会開催時点の学年を選択。選手名は姓と名の間を全角スペースで入力してください。 | J8: 学年は大会開催時点の学年を選択。選手名は姓と名の間を全角スペースで入力してください。 | K8: 学年は大会開催時点の学年を選択。選手名は姓と名の間を全角スペースで入力してください。 | L8: 学年は大会開催時点の学年を選択。選手名は姓と名の間を全角スペースで入力してください。
B9: 成績は全国ホープス選抜選考会の結果を入力。不出場の場合は「不参加」を選択してください。 | C9: 「公式戦への初参加」は、この大会に限らず公式戦に初めて出場する場合に「はい」を選択。 | D9: 「公式戦への初参加」は、この大会に限らず公式戦に初めて出場する場合に「はい」を選択。 | E9: 「公式戦への初参加」は、この大会に限らず公式戦に初めて出場する場合に「はい」を選択。 | F9: 「公式戦への初参加」は、この大会に限らず公式戦に初めて出場する場合に「はい」を選択。 | G9: 「公式戦への初参加」は、この大会に限らず公式戦に初めて出場する場合に「はい」を選択。 | H9: 「公式戦への初参加」は、この大会に限らず公式戦に初めて出場する場合に「はい」を選択。 | I9: 「公式戦への初参加」は、この大会に限らず公式戦に初めて出場する場合に「はい」を選択。 | J9: 「公式戦への初参加」は、この大会に限らず公式戦に初めて出場する場合に「はい」を選択。 | K9: 「公式戦への初参加」は、この大会に限らず公式戦に初めて出場する場合に「はい」を選択。 | L9: 「公式戦への初参加」は、この大会に限らず公式戦に初めて出場する場合に「はい」を選択。
B10: 上記大会に不参加で、前々回大会にベスト8入賞した選手のみ、大会名と結果を「特記事項」へ記入してください。 | C10: 実績は直近の各県予選会の結果を入力。順位が確定している場合は「○位」、未確定の範囲は「ベスト○」。 | D10: 実績は直近の各県予選会の結果を入力。順位が確定している場合は「○位」、未確定の範囲は「ベスト○」。 | E10: 実績は直近の各県予選会の結果を入力。順位が確定している場合は「○位」、未確定の範囲は「ベスト○」。 | F10: 実績は直近の各県予選会の結果を入力。順位が確定している場合は「○位」、未確定の範囲は「ベスト○」。 | G10: 実績は直近の各県予選会の結果を入力。順位が確定している場合は「○位」、未確定の範囲は「ベスト○」。 | H10: 実績は直近の各県予選会の結果を入力。順位が確定している場合は「○位」、未確定の範囲は「ベスト○」。 | I10: 実績は直近の各県予選会の結果を入力。順位が確定している場合は「○位」、未確定の範囲は「ベスト○」。 | J10: 実績は直近の各県予選会の結果を入力。順位が確定している場合は「○位」、未確定の範囲は「ベスト○」。 | K10: 実績は直近の各県予選会の結果を入力。順位が確定している場合は「○位」、未確定の範囲は「ベスト○」。 | L10: 実績は直近の各県予選会の結果を入力。順位が確定している場合は「○位」、未確定の範囲は「ベスト○」。
B11: 転入やその他の補足事項も「特記事項」へ記入してください。 | C11: ホープス選抜は最終結果と予選リーグ順位を入力。リーグ順位は県予選会の結果です。 | D11: ホープス選抜は最終結果と予選リーグ順位を入力。リーグ順位は県予選会の結果です。 | E11: ホープス選抜は最終結果と予選リーグ順位を入力。リーグ順位は県予選会の結果です。 | F11: ホープス選抜は最終結果と予選リーグ順位を入力。リーグ順位は県予選会の結果です。 | G11: ホープス選抜は最終結果と予選リーグ順位を入力。リーグ順位は県予選会の結果です。 | H11: ホープス選抜は最終結果と予選リーグ順位を入力。リーグ順位は県予選会の結果です。 | I11: ホープス選抜は最終結果と予選リーグ順位を入力。リーグ順位は県予選会の結果です。 | J11: ホープス選抜は最終結果と予選リーグ順位を入力。リーグ順位は県予選会の結果です。 | K11: ホープス選抜は最終結果と予選リーグ順位を入力。リーグ順位は県予選会の結果です。 | L11: ホープス選抜は最終結果と予選リーグ順位を入力。リーグ順位は県予選会の結果です。
C12: 出場していない大会は「不参加」。該当なしは「該当なし」を選択。未入力のまま提出しないでください。 | D12: 出場していない大会は「不参加」。該当なしは「該当なし」を選択。未入力のまま提出しないでください。 | E12: 出場していない大会は「不参加」。該当なしは「該当なし」を選択。未入力のまま提出しないでください。 | F12: 出場していない大会は「不参加」。該当なしは「該当なし」を選択。未入力のまま提出しないでください。 | G12: 出場していない大会は「不参加」。該当なしは「該当なし」を選択。未入力のまま提出しないでください。 | H12: 出場していない大会は「不参加」。該当なしは「該当なし」を選択。未入力のまま提出しないでください。 | I12: 出場していない大会は「不参加」。該当なしは「該当なし」を選択。未入力のまま提出しないでください。 | J12: 出場していない大会は「不参加」。該当なしは「該当なし」を選択。未入力のまま提出しないでください。 | K12: 出場していない大会は「不参加」。該当なしは「該当なし」を選択。未入力のまま提出しないでください。 | L12: 出場していない大会は「不参加」。該当なしは「該当なし」を選択。未入力のまま提出しないでください。
C13: 特記事項：転入元・大会名・県代表歴・全国大会実績、選択肢にない結果などを記入。 | D13: 特記事項：転入元・大会名・県代表歴・全国大会実績、選択肢にない結果などを記入。 | E13: 特記事項：転入元・大会名・県代表歴・全国大会実績、選択肢にない結果などを記入。 | F13: 特記事項：転入元・大会名・県代表歴・全国大会実績、選択肢にない結果などを記入。 | G13: 特記事項：転入元・大会名・県代表歴・全国大会実績、選択肢にない結果などを記入。 | H13: 特記事項：転入元・大会名・県代表歴・全国大会実績、選択肢にない結果などを記入。 | I13: 特記事項：転入元・大会名・県代表歴・全国大会実績、選択肢にない結果などを記入。 | J13: 特記事項：転入元・大会名・県代表歴・全国大会実績、選択肢にない結果などを記入。 | K13: 特記事項：転入元・大会名・県代表歴・全国大会実績、選択肢にない結果などを記入。 | L13: 特記事項：転入元・大会名・県代表歴・全国大会実績、選択肢にない結果などを記入。
C14: 記入例：最終結果「ベスト8」／予選リーグ「1位」。順位が決まっている場合は最終結果「5位」など。 | D14: 記入例：最終結果「ベスト8」／予選リーグ「1位」。順位が決まっている場合は最終結果「5位」など。 | E14: 記入例：最終結果「ベスト8」／予選リーグ「1位」。順位が決まっている場合は最終結果「5位」など。 | F14: 記入例：最終結果「ベスト8」／予選リーグ「1位」。順位が決まっている場合は最終結果「5位」など。 | G14: 記入例：最終結果「ベスト8」／予選リーグ「1位」。順位が決まっている場合は最終結果「5位」など。 | H14: 記入例：最終結果「ベスト8」／予選リーグ「1位」。順位が決まっている場合は最終結果「5位」など。 | I14: 記入例：最終結果「ベスト8」／予選リーグ「1位」。順位が決まっている場合は最終結果「5位」など。 | J14: 記入例：最終結果「ベスト8」／予選リーグ「1位」。順位が決まっている場合は最終結果「5位」など。 | K14: 記入例：最終結果「ベスト8」／予選リーグ「1位」。順位が決まっている場合は最終結果「5位」など。 | L14: 記入例：最終結果「ベスト8」／予選リーグ「1位」。順位が決まっている場合は最終結果「5位」など。
B15: No. | C15: 出場種目 | D15: 選手名 | E15: 学年 | F15: チーム名 | G15: 公式戦への 初参加 | H15: 全国ホープス選抜選考会の成績 | J15: 特記事項
B16: 1 | C16: ④ カブ女子 | F16: =IF(D16="","",IF(種目別参加人数一覧!$C$10="","",種目別参加人数一覧!$C$10))
B17: 2 | C17: ④ カブ女子 | F17: =IF(D17="","",IF(種目別参加人数一覧!$C$10="","",種目別参加人数一覧!$C$10))
B18: 3 | C18: ④ カブ女子 | F18: =IF(D18="","",IF(種目別参加人数一覧!$C$10="","",種目別参加人数一覧!$C$10))
B19: 4 | C19: ④ カブ女子 | F19: =IF(D19="","",IF(種目別参加人数一覧!$C$10="","",種目別参加人数一覧!$C$10))
B20: 5 | C20: ④ カブ女子 | F20: =IF(D20="","",IF(種目別参加人数一覧!$C$10="","",種目別参加人数一覧!$C$10))
B21: 6 | C21: ④ カブ女子 | F21: =IF(D21="","",IF(種目別参加人数一覧!$C$10="","",種目別参加人数一覧!$C$10))
B22: 7 | C22: ④ カブ女子 | F22: =IF(D22="","",IF(種目別参加人数一覧!$C$10="","",種目別参加人数一覧!$C$10))
B23: 8 | C23: ④ カブ女子 | F23: =IF(D23="","",IF(種目別参加人数一覧!$C$10="","",種目別参加人数一覧!$C$10))
B24: 9 | C24: ④ カブ女子 | F24: =IF(D24="","",IF(種目別参加人数一覧!$C$10="","",種目別参加人数一覧!$C$10))
B25: 10 | C25: ④ カブ女子 | F25: =IF(D25="","",IF(種目別参加人数一覧!$C$10="","",種目別参加人数一覧!$C$10))
B26: 11 | C26: ④ カブ女子 | F26: =IF(D26="","",IF(種目別参加人数一覧!$C$10="","",種目別参加人数一覧!$C$10))
B27: 12 | C27: ④ カブ女子 | F27: =IF(D27="","",IF(種目別参加人数一覧!$C$10="","",種目別参加人数一覧!$C$10))
... B35: 20 | C35: ④ カブ女子 | F35: =IF(D35="","",IF(種目別参加人数一覧!$C$10="","",種目別参加人数一覧!$C$10))
C37: 実績の優先順位：ホープス選抜県予選 → 東京選手権県予選 → 全日本ホカバ県予選。バンビのシードは東京選手権県予選を基準とします。 | D37: 実績の優先順位：ホープス選抜県予選 → 東京選手権県予選 → 全日本ホカバ県予選。バンビのシードは東京選手権県予選を基準とします。 | E37: 実績の優先順位：ホープス選抜県予選 → 東京選手権県予選 → 全日本ホカバ県予選。バンビのシードは東京選手権県予選を基準とします。 | F37: 実績の優先順位：ホープス選抜県予選 → 東京選手権県予選 → 全日本ホカバ県予選。バンビのシードは東京選手権県予選を基準とします。 | G37: 実績の優先順位：ホープス選抜県予選 → 東京選手権県予選 → 全日本ホカバ県予選。バンビのシードは東京選手権県予選を基準とします。 | H37: 実績の優先順位：ホープス選抜県予選 → 東京選手権県予選 → 全日本ホカバ県予選。バンビのシードは東京選手権県予選を基準とします。 | I37: 実績の優先順位：ホープス選抜県予選 → 東京選手権県予選 → 全日本ホカバ県予選。バンビのシードは東京選手権県予選を基準とします。 | J37: 実績の優先順位：ホープス選抜県予選 → 東京選手権県予選 → 全日本ホカバ県予選。バンビのシードは東京選手権県予選を基準とします。 | K37: 実績の優先順位：ホープス選抜県予選 → 東京選手権県予選 → 全日本ホカバ県予選。バンビのシードは東京選手権県予選を基準とします。 | L37: 実績の優先順位：ホープス選抜県予選 → 東京選手権県予選 → 全日本ホカバ県予選。バンビのシードは東京選手権県予選を基準とします。

Sheet バンビ女
B2: 令和8年度 東アジアホープス選考会兼ホープス以下新人戦 参加申込書 | C2: 令和8年度 東アジアホープス選考会兼ホープス以下新人戦 | D2: 令和8年度 東アジアホープス選考会兼ホープス以下新人戦 | E2: 令和8年度 東アジアホープス選考会兼ホープス以下新人戦 | F2: 令和8年度 東アジアホープス選考会兼ホープス以下新人戦 | G2: 令和8年度 東アジアホープス選考会兼ホープス以下新人戦 | H2: 令和8年度 東アジアホープス選考会兼ホープス以下新人戦 | I2: 令和8年度 東アジアホープス選考会兼ホープス以下新人戦 | J2: 令和8年度 東アジアホープス選考会兼ホープス以下新人戦 | K2: 令和8年度 東アジアホープス選考会兼ホープス以下新人戦 | L2: 令和8年度 東アジアホープス選考会兼ホープス以下新人戦
B3: ⑥ バンビ女子 小学１年生以下・幼児 | C3: ⑥ バンビ女子 小学1年生以下・幼児 開催日：2026年12月27日（日） | D3: ⑥ バンビ女子 小学1年生以下・幼児 開催日：2026年12月27日（日） | E3: ⑥ バンビ女子 小学1年生以下・幼児 開催日：2026年12月27日（日） | F3: ⑥ バンビ女子 小学1年生以下・幼児 開催日：2026年12月27日（日） | G3: ⑥ バンビ女子 小学1年生以下・幼児 開催日：2026年12月27日（日） | H3: ⑥ バンビ女子 小学1年生以下・幼児 開催日：2026年12月27日（日） | I3: ⑥ バンビ女子 小学1年生以下・幼児 開催日：2026年12月27日（日） | J3: ⑥ バンビ女子 小学1年生以下・幼児 開催日：2026年12月27日（日） | K3: ⑥ バンビ女子 小学1年生以下・幼児 開催日：2026年12月27日（日） | L3: ⑥ バンビ女子 小学1年生以下・幼児 開催日：2026年12月27日（日）
B5: 黄色：入力・選択する欄 | D5: 青色：自動入力される欄（変更不要）
B7: 姓と名の間には、必ず全角スペースを1つ入れてください。 | C7: 黄色の欄を入力。種目・チーム名は自動表示です。1人1種目でお申し込みください。 | D7: 黄色の欄を入力。種目・チーム名は自動表示です。1人1種目でお申し込みください。 | E7: 黄色の欄を入力。種目・チーム名は自動表示です。1人1種目でお申し込みください。 | F7: 黄色の欄を入力。種目・チーム名は自動表示です。1人1種目でお申し込みください。 | G7: 黄色の欄を入力。種目・チーム名は自動表示です。1人1種目でお申し込みください。 | H7: 黄色の欄を入力。種目・チーム名は自動表示です。1人1種目でお申し込みください。 | I7: 黄色の欄を入力。種目・チーム名は自動表示です。1人1種目でお申し込みください。 | J7: 黄色の欄を入力。種目・チーム名は自動表示です。1人1種目でお申し込みください。 | K7: 黄色の欄を入力。種目・チーム名は自動表示です。1人1種目でお申し込みください。 | L7: 黄色の欄を入力。種目・チーム名は自動表示です。1人1種目でお申し込みください。
B8: 学年・成績はプルダウンで選択。「公式戦への初参加」は公式戦に初めて出場する場合に「はい」を選択。 | C8: 学年は大会開催時点の学年を選択。選手名は姓と名の間を全角スペースで入力してください。 | D8: 学年は大会開催時点の学年を選択。選手名は姓と名の間を全角スペースで入力してください。 | E8: 学年は大会開催時点の学年を選択。選手名は姓と名の間を全角スペースで入力してください。 | F8: 学年は大会開催時点の学年を選択。選手名は姓と名の間を全角スペースで入力してください。 | G8: 学年は大会開催時点の学年を選択。選手名は姓と名の間を全角スペースで入力してください。 | H8: 学年は大会開催時点の学年を選択。選手名は姓と名の間を全角スペースで入力してください。 | I8: 学年は大会開催時点の学年を選択。選手名は姓と名の間を全角スペースで入力してください。 | J8: 学年は大会開催時点の学年を選択。選手名は姓と名の間を全角スペースで入力してください。 | K8: 学年は大会開催時点の学年を選択。選手名は姓と名の間を全角スペースで入力してください。 | L8: 学年は大会開催時点の学年を選択。選手名は姓と名の間を全角スペースで入力してください。
B9: 成績は全国ホープス選抜選考会の結果を入力。不出場の場合は「不参加」を選択してください。 | C9: 「公式戦への初参加」は、この大会に限らず公式戦に初めて出場する場合に「はい」を選択。 | D9: 「公式戦への初参加」は、この大会に限らず公式戦に初めて出場する場合に「はい」を選択。 | E9: 「公式戦への初参加」は、この大会に限らず公式戦に初めて出場する場合に「はい」を選択。 | F9: 「公式戦への初参加」は、この大会に限らず公式戦に初めて出場する場合に「はい」を選択。 | G9: 「公式戦への初参加」は、この大会に限らず公式戦に初めて出場する場合に「はい」を選択。 | H9: 「公式戦への初参加」は、この大会に限らず公式戦に初めて出場する場合に「はい」を選択。 | I9: 「公式戦への初参加」は、この大会に限らず公式戦に初めて出場する場合に「はい」を選択。 | J9: 「公式戦への初参加」は、この大会に限らず公式戦に初めて出場する場合に「はい」を選択。 | K9: 「公式戦への初参加」は、この大会に限らず公式戦に初めて出場する場合に「はい」を選択。 | L9: 「公式戦への初参加」は、この大会に限らず公式戦に初めて出場する場合に「はい」を選択。
B10: 上記大会に不参加で、前々回大会にベスト8入賞した選手のみ、大会名と結果を「特記事項」へ記入してください。 | C10: 実績は直近の各県予選会の結果を入力。順位が確定している場合は「○位」、未確定の範囲は「ベスト○」。 | D10: 実績は直近の各県予選会の結果を入力。順位が確定している場合は「○位」、未確定の範囲は「ベスト○」。 | E10: 実績は直近の各県予選会の結果を入力。順位が確定している場合は「○位」、未確定の範囲は「ベスト○」。 | F10: 実績は直近の各県予選会の結果を入力。順位が確定している場合は「○位」、未確定の範囲は「ベスト○」。 | G10: 実績は直近の各県予選会の結果を入力。順位が確定している場合は「○位」、未確定の範囲は「ベスト○」。 | H10: 実績は直近の各県予選会の結果を入力。順位が確定している場合は「○位」、未確定の範囲は「ベスト○」。 | I10: 実績は直近の各県予選会の結果を入力。順位が確定している場合は「○位」、未確定の範囲は「ベスト○」。 | J10: 実績は直近の各県予選会の結果を入力。順位が確定している場合は「○位」、未確定の範囲は「ベスト○」。 | K10: 実績は直近の各県予選会の結果を入力。順位が確定している場合は「○位」、未確定の範囲は「ベスト○」。 | L10: 実績は直近の各県予選会の結果を入力。順位が確定している場合は「○位」、未確定の範囲は「ベスト○」。
B11: 転入やその他の補足事項も「特記事項」へ記入してください。 | C11: ホープス選抜は最終結果と予選リーグ順位を入力。リーグ順位は県予選会の結果です。 | D11: ホープス選抜は最終結果と予選リーグ順位を入力。リーグ順位は県予選会の結果です。 | E11: ホープス選抜は最終結果と予選リーグ順位を入力。リーグ順位は県予選会の結果です。 | F11: ホープス選抜は最終結果と予選リーグ順位を入力。リーグ順位は県予選会の結果です。 | G11: ホープス選抜は最終結果と予選リーグ順位を入力。リーグ順位は県予選会の結果です。 | H11: ホープス選抜は最終結果と予選リーグ順位を入力。リーグ順位は県予選会の結果です。 | I11: ホープス選抜は最終結果と予選リーグ順位を入力。リーグ順位は県予選会の結果です。 | J11: ホープス選抜は最終結果と予選リーグ順位を入力。リーグ順位は県予選会の結果です。 | K11: ホープス選抜は最終結果と予選リーグ順位を入力。リーグ順位は県予選会の結果です。 | L11: ホープス選抜は最終結果と予選リーグ順位を入力。リーグ順位は県予選会の結果です。
C12: 出場していない大会は「不参加」。該当なしは「該当なし」を選択。未入力のまま提出しないでください。 | D12: 出場していない大会は「不参加」。該当なしは「該当なし」を選択。未入力のまま提出しないでください。 | E12: 出場していない大会は「不参加」。該当なしは「該当なし」を選択。未入力のまま提出しないでください。 | F12: 出場していない大会は「不参加」。該当なしは「該当なし」を選択。未入力のまま提出しないでください。 | G12: 出場していない大会は「不参加」。該当なしは「該当なし」を選択。未入力のまま提出しないでください。 | H12: 出場していない大会は「不参加」。該当なしは「該当なし」を選択。未入力のまま提出しないでください。 | I12: 出場していない大会は「不参加」。該当なしは「該当なし」を選択。未入力のまま提出しないでください。 | J12: 出場していない大会は「不参加」。該当なしは「該当なし」を選択。未入力のまま提出しないでください。 | K12: 出場していない大会は「不参加」。該当なしは「該当なし」を選択。未入力のまま提出しないでください。 | L12: 出場していない大会は「不参加」。該当なしは「該当なし」を選択。未入力のまま提出しないでください。
C13: 特記事項：転入元・大会名・県代表歴・全国大会実績、選択肢にない結果などを記入。 | D13: 特記事項：転入元・大会名・県代表歴・全国大会実績、選択肢にない結果などを記入。 | E13: 特記事項：転入元・大会名・県代表歴・全国大会実績、選択肢にない結果などを記入。 | F13: 特記事項：転入元・大会名・県代表歴・全国大会実績、選択肢にない結果などを記入。 | G13: 特記事項：転入元・大会名・県代表歴・全国大会実績、選択肢にない結果などを記入。 | H13: 特記事項：転入元・大会名・県代表歴・全国大会実績、選択肢にない結果などを記入。 | I13: 特記事項：転入元・大会名・県代表歴・全国大会実績、選択肢にない結果などを記入。 | J13: 特記事項：転入元・大会名・県代表歴・全国大会実績、選択肢にない結果などを記入。 | K13: 特記事項：転入元・大会名・県代表歴・全国大会実績、選択肢にない結果などを記入。 | L13: 特記事項：転入元・大会名・県代表歴・全国大会実績、選択肢にない結果などを記入。
C14: 記入例：最終結果「ベスト8」／予選リーグ「1位」。順位が決まっている場合は最終結果「5位」など。 | D14: 記入例：最終結果「ベスト8」／予選リーグ「1位」。順位が決まっている場合は最終結果「5位」など。 | E14: 記入例：最終結果「ベスト8」／予選リーグ「1位」。順位が決まっている場合は最終結果「5位」など。 | F14: 記入例：最終結果「ベスト8」／予選リーグ「1位」。順位が決まっている場合は最終結果「5位」など。 | G14: 記入例：最終結果「ベスト8」／予選リーグ「1位」。順位が決まっている場合は最終結果「5位」など。 | H14: 記入例：最終結果「ベスト8」／予選リーグ「1位」。順位が決まっている場合は最終結果「5位」など。 | I14: 記入例：最終結果「ベスト8」／予選リーグ「1位」。順位が決まっている場合は最終結果「5位」など。 | J14: 記入例：最終結果「ベスト8」／予選リーグ「1位」。順位が決まっている場合は最終結果「5位」など。 | K14: 記入例：最終結果「ベスト8」／予選リーグ「1位」。順位が決まっている場合は最終結果「5位」など。 | L14: 記入例：最終結果「ベスト8」／予選リーグ「1位」。順位が決まっている場合は最終結果「5位」など。
B15: No. | C15: 出場種目 | D15: 選手名 | E15: 学年 | F15: チーム名 | G15: 公式戦への 初参加 | H15: 全国ホープス選抜選考会の成績 | J15: 特記事項
B16: 1 | C16: ⑥ バンビ女子 | F16: =IF(D16="","",IF(種目別参加人数一覧!$C$10="","",種目別参加人数一覧!$C$10))
B17: 2 | C17: ⑥ バンビ女子 | F17: =IF(D17="","",IF(種目別参加人数一覧!$C$10="","",種目別参加人数一覧!$C$10))
B18: 3 | C18: ⑥ バンビ女子 | F18: =IF(D18="","",IF(種目別参加人数一覧!$C$10="","",種目別参加人数一覧!$C$10))
B19: 4 | C19: ⑥ バンビ女子 | F19: =IF(D19="","",IF(種目別参加人数一覧!$C$10="","",種目別参加人数一覧!$C$10))
B20: 5 | C20: ⑥ バンビ女子 | F20: =IF(D20="","",IF(種目別参加人数一覧!$C$10="","",種目別参加人数一覧!$C$10))
B21: 6 | C21: ⑥ バンビ女子 | F21: =IF(D21="","",IF(種目別参加人数一覧!$C$10="","",種目別参加人数一覧!$C$10))
B22: 7 | C22: ⑥ バンビ女子 | F22: =IF(D22="","",IF(種目別参加人数一覧!$C$10="","",種目別参加人数一覧!$C$10))
B23: 8 | C23: ⑥ バンビ女子 | F23: =IF(D23="","",IF(種目別参加人数一覧!$C$10="","",種目別参加人数一覧!$C$10))
B24: 9 | C24: ⑥ バンビ女子 | F24: =IF(D24="","",IF(種目別参加人数一覧!$C$10="","",種目別参加人数一覧!$C$10))
B25: 10 | C25: ⑥ バンビ女子 | F25: =IF(D25="","",IF(種目別参加人数一覧!$C$10="","",種目別参加人数一覧!$C$10))
B26: 11 | C26: ⑥ バンビ女子 | F26: =IF(D26="","",IF(種目別参加人数一覧!$C$10="","",種目別参加人数一覧!$C$10))
B27: 12 | C27: ⑥ バンビ女子 | F27: =IF(D27="","",IF(種目別参加人数一覧!$C$10="","",種目別参加人数一覧!$C$10))
... B35: 20 | C35: ⑥ バンビ女子 | F35: =IF(D35="","",IF(種目別参加人数一覧!$C$10="","",種目別参加人数一覧!$C$10))
C37: 実績の優先順位：ホープス選抜県予選 → 東京選手権県予選 → 全日本ホカバ県予選。バンビのシードは東京選手権県予選を基準とします。 | D37: 実績の優先順位：ホープス選抜県予選 → 東京選手権県予選 → 全日本ホカバ県予選。バンビのシードは東京選手権県予選を基準とします。 | E37: 実績の優先順位：ホープス選抜県予選 → 東京選手権県予選 → 全日本ホカバ県予選。バンビのシードは東京選手権県予選を基準とします。 | F37: 実績の優先順位：ホープス選抜県予選 → 東京選手権県予選 → 全日本ホカバ県予選。バンビのシードは東京選手権県予選を基準とします。 | G37: 実績の優先順位：ホープス選抜県予選 → 東京選手権県予選 → 全日本ホカバ県予選。バンビのシードは東京選手権県予選を基準とします。 | H37: 実績の優先順位：ホープス選抜県予選 → 東京選手権県予選 → 全日本ホカバ県予選。バンビのシードは東京選手権県予選を基準とします。 | I37: 実績の優先順位：ホープス選抜県予選 → 東京選手権県予選 → 全日本ホカバ県予選。バンビのシードは東京選手権県予選を基準とします。 | J37: 実績の優先順位：ホープス選抜県予選 → 東京選手権県予選 → 全日本ホカバ県予選。バンビのシードは東京選手権県予選を基準とします。 | K37: 実績の優先順位：ホープス選抜県予選 → 東京選手権県予選 → 全日本ホカバ県予選。バンビのシードは東京選手権県予選を基準とします。 | L37: 実績の優先順位：ホープス選抜県予選 → 東京選手権県予選 → 全日本ホカバ県予選。バンビのシードは東京選手権県予選を基準とします。
